BEGIN:VCALENDAR
VERSION:2.0
PRODID:-//Plantage Dok - ECPv6.15.20//NONSGML v1.0//EN
CALSCALE:GREGORIAN
METHOD:PUBLISH
X-ORIGINAL-URL:https://plantagedok.nl
X-WR-CALDESC:Events for Plantage Dok
REFRESH-INTERVAL;VALUE=DURATION:PT1H
X-Robots-Tag:noindex
X-PUBLISHED-TTL:PT1H
BEGIN:VTIMEZONE
TZID:Europe/Amsterdam
BEGIN:DAYLIGHT
TZOFFSETFROM:+0100
TZOFFSETTO:+0200
TZNAME:CEST
DTSTART:20230326T010000
END:DAYLIGHT
BEGIN:STANDARD
TZOFFSETFROM:+0200
TZOFFSETTO:+0100
TZNAME:CET
DTSTART:20231029T010000
END:STANDARD
BEGIN:DAYLIGHT
TZOFFSETFROM:+0100
TZOFFSETTO:+0200
TZNAME:CEST
DTSTART:20240331T010000
END:DAYLIGHT
BEGIN:STANDARD
TZOFFSETFROM:+0200
TZOFFSETTO:+0100
TZNAME:CET
DTSTART:20241027T010000
END:STANDARD
BEGIN:DAYLIGHT
TZOFFSETFROM:+0100
TZOFFSETTO:+0200
TZNAME:CEST
DTSTART:20250330T010000
END:DAYLIGHT
BEGIN:STANDARD
TZOFFSETFROM:+0200
TZOFFSETTO:+0100
TZNAME:CET
DTSTART:20251026T010000
END:STANDARD
END:VTIMEZONE
BEGIN:VEVENT
DTSTART;TZID=Europe/Amsterdam:20241102T180000
DTEND;TZID=Europe/Amsterdam:20241102T230000
DTSTAMP:20260422T054409
CREATED:20241002T112839Z
LAST-MODIFIED:20241002T113022Z
UID:10755-1730570400-1730588400@plantagedok.nl
SUMMARY:Zielsverwanten
DESCRIPTION:Zielsverwanten \n\n\n\nWe brengen Life muziek\, Voordracht\, Klank\, Film en Dans samen\, waarbij we ons thema’ Hoe besta je na’ opnieuw vormgeven. Allerzielen op 2 november\, is de dag om de doden te herdenken. Samen met Huis te Vraag hebben we aan dit project gewerkt en voor deze keer in de DOK zaal hebben we een nieuwe partner erbij;  \n\nIndigenous Network. \nZij bouwen een Altaar geïnspireerd op: Dia del Muertos\, de dag van de doden in Mexico.\n\n\nIn de samenwerking met deze Mexicaanse vrouwen leerden we van hun Cultuur\, zij maken contact met hun voorouders\, \n\n   het  Altaar is daar belangrijk in.\n\n\n\n \nEen nieuw onderdeel in de voorstelling is het Film ‘Decor’ gemaakt door Baltasar Thomas. \n \nMet de filmbeelden brengen we onze vorige locatie Huis te Vraag mee naar de Dokzaal.\nDe beleving van de begraafplaats komt terug in een filmische vorm.\n \nVoorafgaand aan de voorstelling is er een maaltijd om 18.00 uur voor wie dat wil.\n \nNa afloop is er nog muziek tot 23.00 uur.\n \nKaartjes kopen kan via deze link\, daar vind je ook alle informatie over adres en aanvangstijden.\n\n\n\n\n\n\n\nWe hopen op jullie komst!\nGroet\,\nPierik en Dansers & Muziekanten; Sacha Wendt\, Anne van Delft\, Simone Mariposa\, Peter van de Linden\, Soek Zwamborn\, Vinzent Nieuwenhuizen\, Ernest Leaven\, Joop Koopmans\, Barbara Wiemann\, Sabine Beilfuss\, FransJozef van Nispen Katrien van Haaster Angela en alle vrijwilligers van dit project.
URL:https://plantagedok.nl/event/zielsverwanten/
ATTACH;FMTTYPE=image/jpeg:https://plantagedok.nl/wp-content/uploads/2024/10/20241102-ziel-PHOTO-2024-09-16-09-42-02.jpeg
END:VEVENT
END:VCALENDAR