BEGIN:VCALENDAR
VERSION:2.0
PRODID:-//Plantage Dok - ECPv6.15.20//NONSGML v1.0//EN
CALSCALE:GREGORIAN
METHOD:PUBLISH
X-ORIGINAL-URL:https://plantagedok.nl
X-WR-CALDESC:Events for Plantage Dok
REFRESH-INTERVAL;VALUE=DURATION:PT1H
X-Robots-Tag:noindex
X-PUBLISHED-TTL:PT1H
BEGIN:VTIMEZONE
TZID:Europe/Amsterdam
BEGIN:DAYLIGHT
TZOFFSETFROM:+0100
TZOFFSETTO:+0200
TZNAME:CEST
DTSTART:20230326T010000
END:DAYLIGHT
BEGIN:STANDARD
TZOFFSETFROM:+0200
TZOFFSETTO:+0100
TZNAME:CET
DTSTART:20231029T010000
END:STANDARD
BEGIN:DAYLIGHT
TZOFFSETFROM:+0100
TZOFFSETTO:+0200
TZNAME:CEST
DTSTART:20240331T010000
END:DAYLIGHT
BEGIN:STANDARD
TZOFFSETFROM:+0200
TZOFFSETTO:+0100
TZNAME:CET
DTSTART:20241027T010000
END:STANDARD
BEGIN:DAYLIGHT
TZOFFSETFROM:+0100
TZOFFSETTO:+0200
TZNAME:CEST
DTSTART:20250330T010000
END:DAYLIGHT
BEGIN:STANDARD
TZOFFSETFROM:+0200
TZOFFSETTO:+0100
TZNAME:CET
DTSTART:20251026T010000
END:STANDARD
END:VTIMEZONE
BEGIN:VEVENT
DTSTART;TZID=Europe/Amsterdam:20240601T150000
DTEND;TZID=Europe/Amsterdam:20240601T233000
DTSTAMP:20260419T233422
CREATED:20240508T193824Z
LAST-MODIFIED:20240508T194009Z
UID:10415-1717254000-1717284600@plantagedok.nl
SUMMARY:C.A.L.L F.E.S.T.I.V.A.L.
DESCRIPTION:AN INTERNATIONAL CONVENING OF CREATIVE MUSIC\nCHICAGO–AMSTERDAM–LONDON–LOS ANGELES\nFEATURING: Ben Lamar Gay | Ben Boye | Matthew Lux | Frank Rosaly | Ibelisse Guardia Ferragutti | Marta Warelis | Ruth Goller | Bex Burch | Laurel Pardue | Elisabeth Coudoux | Lucija Gregov | Mola Sylla | Mary Oliver | Giuseppe Doronzo | Oscar Jan Hoogland | Jochem Van Tol | Jacob Maskell-Key | DJ King Hippo (Iarc) | DJ \nEntree sliding scale: pay what you can! We would like to welcome everybody. \nTickets from € 13\,50 // 19\,50 // 29\,50 (support us!) \nDinner € 13\,50 \nCo-organised by SITP\, Molk Factory\, International Anthem Recordings \nAmsterdam\, we’re calling you! Mark the advent of June for C.A.L.L F.E.S.T.I.V.A.L. with the finest artists from the experimental impro-scene–both locally and internationally renowned. Initiated by Frank Rosaly and Ibelisse Guardia Ferragutti\, the day-long festival includes a stunning 17 artists (and more to be confirmed) from the circles surrounding Space is the Place\, MOLK Factory\, and the International Anthem Recordings label. \nExpect radical combinations of musicians that’ll cross musical swords together for the first time. Confirmed artists are no other than Ben LaMar Gay\, Ben Boye\, Matthew Lux\, Frank Rosaly\, Ibelisse Guardia Ferragutti\, Marta Warelis\, Ruth Goller\, Bex Berch\, Laurel Pardue\, Elisabeth Coudoux\, Lucija Gregov\, Molla Sylla\, Mary Oliver\, Giuseppe Doronzo\, Oscar Jan Hoogland\, Jochem van Tol\, and DJ King Hippo (IARC). \nMultiple sensory courses will be served in the historic Plantage Dok building throughout the day–both through John Pastinaak’s trusted cooking skills and a pop-up record store where you can get exclusive gems first-hand from the many artists. \n  \nSee you on the first of June!
URL:https://plantagedok.nl/event/c-a-l-l-f-e-s-t-i-v-a-l/
LOCATION:Dokzaal
ATTACH;FMTTYPE=image/jpeg:https://plantagedok.nl/wp-content/uploads/2024/05/CALLFestival_DEF.jpeg
END:VEVENT
END:VCALENDAR