BEGIN:VCALENDAR
VERSION:2.0
PRODID:-//Plantage Dok - ECPv6.15.20//NONSGML v1.0//EN
CALSCALE:GREGORIAN
METHOD:PUBLISH
X-ORIGINAL-URL:https://plantagedok.nl
X-WR-CALDESC:Events for Plantage Dok
REFRESH-INTERVAL;VALUE=DURATION:PT1H
X-Robots-Tag:noindex
X-PUBLISHED-TTL:PT1H
BEGIN:VTIMEZONE
TZID:Europe/Amsterdam
BEGIN:DAYLIGHT
TZOFFSETFROM:+0100
TZOFFSETTO:+0200
TZNAME:CEST
DTSTART:20230326T010000
END:DAYLIGHT
BEGIN:STANDARD
TZOFFSETFROM:+0200
TZOFFSETTO:+0100
TZNAME:CET
DTSTART:20231029T010000
END:STANDARD
BEGIN:DAYLIGHT
TZOFFSETFROM:+0100
TZOFFSETTO:+0200
TZNAME:CEST
DTSTART:20240331T010000
END:DAYLIGHT
BEGIN:STANDARD
TZOFFSETFROM:+0200
TZOFFSETTO:+0100
TZNAME:CET
DTSTART:20241027T010000
END:STANDARD
BEGIN:DAYLIGHT
TZOFFSETFROM:+0100
TZOFFSETTO:+0200
TZNAME:CEST
DTSTART:20250330T010000
END:DAYLIGHT
BEGIN:STANDARD
TZOFFSETFROM:+0200
TZOFFSETTO:+0100
TZNAME:CET
DTSTART:20251026T010000
END:STANDARD
END:VTIMEZONE
BEGIN:VEVENT
DTSTART;TZID=Europe/Amsterdam:20240512T153000
DTEND;TZID=Europe/Amsterdam:20240512T200000
DTSTAMP:20260420T011758
CREATED:20240508T191241Z
LAST-MODIFIED:20240508T191241Z
UID:10412-1715527800-1715544000@plantagedok.nl
SUMMARY:SOLOFEST: CRAIG TABORN\, ALISTAIR PAYNE\, LUCIJA GREGOV
DESCRIPTION:Music 15.30-18.00 h; food 18.15 h \nEntree sliding scale: pay what you can! \nWe would like to welcome everybody. \n  \nLINE-UP \nCraig Taborn\, Alistair Payne\, Lucija Gregov \n  \nSpace is the Place presents a new splashing afternoon concert event in Plantage Dok\, a beautiful underground venue in the middle of Amsterdam\, opposite Artis. Probably the most progressive\, exciting\, intriguing pianist in the world Craig Taborn performs an always thrilling soloset. Also on the bill solo’s of two of the biggest improvising talents around: Alistair Payne (trumpet) and Lucija Gregov (cello). \n  \n  \nCRAIG TABORN \nNew York pianist Craig Taborn consistently captivates audiences with his performances. Fans of jazz\, contemporary classical\, and electronic music admire his detailed exploration of the piano’s sound. Especially since his solo album Avenging Angel\, he’s been recognized as one of the best jazz pianists alive by The New York Times\, de Volkskrant\, and more. Ten years after this landmark solo album\, Taborn released a second\, Shadow Play\, on ECM Records\, recorded live at the Mozart-Saal of the Wiener Konzerthaus. Taborn gained recognition through collaborations with James Carter and Roscoe Mitchell\, and he’s worked with peers like Vijay Iyer\, Chris Potter\, and Dave King\, drummer for The Bad Plus. \n  \nLUCIJA GREGOV \nLucija Gregov is a cellist\, improviser\, and sound artist whose work describes and explores new sonic landscapes\, integrating analogue synthesizers and field recordings into her compositions along the way. By engaging in interdisciplinary and often community-oriented work\, she pushes traditional cello boundaries\, creating a dynamic approach to her improvisation and sound art. \n  \nALISTAIR PAYNE \nAlistair Payne is a prominent figure in the Dutch jazz scene. Originally from Scotland\, the trumpeter operates beyond established norms. His use of extended techniques is a natural part of his playing\, where he embraces both physical and mental challenges. While he rarely performs solo\, this promises to be a memorable event.
URL:https://plantagedok.nl/event/solofest-craig-taborn-alistair-payne-lucija-gregov/
LOCATION:Dokzaal
ATTACH;FMTTYPE=image/jpeg:https://plantagedok.nl/wp-content/uploads/2024/05/Craig-Taborn.jpeg
END:VEVENT
END:VCALENDAR