BEGIN:VCALENDAR
VERSION:2.0
PRODID:-//Plantage Dok - ECPv6.15.20//NONSGML v1.0//EN
CALSCALE:GREGORIAN
METHOD:PUBLISH
X-WR-CALNAME:Plantage Dok
X-ORIGINAL-URL:https://plantagedok.nl
X-WR-CALDESC:Events for Plantage Dok
REFRESH-INTERVAL;VALUE=DURATION:PT1H
X-Robots-Tag:noindex
X-PUBLISHED-TTL:PT1H
BEGIN:VTIMEZONE
TZID:Europe/Amsterdam
BEGIN:DAYLIGHT
TZOFFSETFROM:+0100
TZOFFSETTO:+0200
TZNAME:CEST
DTSTART:20220327T010000
END:DAYLIGHT
BEGIN:STANDARD
TZOFFSETFROM:+0200
TZOFFSETTO:+0100
TZNAME:CET
DTSTART:20221030T010000
END:STANDARD
BEGIN:DAYLIGHT
TZOFFSETFROM:+0100
TZOFFSETTO:+0200
TZNAME:CEST
DTSTART:20230326T010000
END:DAYLIGHT
BEGIN:STANDARD
TZOFFSETFROM:+0200
TZOFFSETTO:+0100
TZNAME:CET
DTSTART:20231029T010000
END:STANDARD
BEGIN:DAYLIGHT
TZOFFSETFROM:+0100
TZOFFSETTO:+0200
TZNAME:CEST
DTSTART:20240331T010000
END:DAYLIGHT
BEGIN:STANDARD
TZOFFSETFROM:+0200
TZOFFSETTO:+0100
TZNAME:CET
DTSTART:20241027T010000
END:STANDARD
END:VTIMEZONE
BEGIN:VEVENT
DTSTART;TZID=Europe/Amsterdam:20231029T160000
DTEND;TZID=Europe/Amsterdam:20231029T190000
DTSTAMP:20260420T130800
CREATED:20230919T114642Z
LAST-MODIFIED:20230919T115123Z
UID:9811-1698595200-1698606000@plantagedok.nl
SUMMARY:Instant Composers Pool Krokettenfestijn - BIMHUIS & Space Is The Place
DESCRIPTION:Een spectaculaire middag in de Dokzaal met legendes uit de Nederlandse impro-scene.\n\nSpace is the Place presenteert in samenwerking met het BIMHUIS een spectaculaire middag in de Dokzaal\, een verborgen parel in het centrum van Amsterdam. Het ICP Orchestra\, de godfathers van de improvisatiemuziek in Amsterdam\, spelen nog steeds met Han Bennink aan het roer en doen dit al 56 jaar met toewijding\, inventiviteit en lef. Op het programma staan verder nog jonge\, sterke muzikanten met een voorliefde voor de ICP-esthetiek en na afloop de befaamde huisgemaakte kroketten van John Pastinaak en Luc Ex. \nICP\nDe ICP\, een van de meest creatieve groepen in de moderne jazz\, werd in 1967 in het leven geroepen door drummer Han Bennink & pianist/componist Misha Mengelberg. Hoewel Mengelberg in 2017 overleed\, worden zijn composities levend gehouden door een vaste bezetting. \nMichael Moore saxofoon/klarinet\, Ab Baars saxofoon/klarinet\, Tobias Delius tenorsax\, Joost Buis trombone\, Thomas Heberer trompet\, Mary Oliver viool/altviool\, Guus Janssen piano\, Ernst Glerum bas\, Han Bennink drums \nSUN-MI HONG & ALISTAIR PAYNE\nTrompet en drums vormen een ongebruikelijke bezetting. Alistair Payne en Sun-Mi Hong laten het echter volkomen natuurlijk klinken door hun fantasierijke spel. Beide muzikanten zijn groot fan van het ICP-orkest. \nMARTA WARELIS SOLO\nMarta Warelis is een Poolse pianiste\, die met haar voorliefde voor improvisatie en experiment voortdurend zoekt naar nieuwe geluiden en invloeden. Haar werk haalt inspiratie uit diverse genres\, van cumbia en Angolese dansmuziek tot jazz en westerse klassieke muziek. \nREINIER BAAS & JORIS ROELOFS\nBasklarinettist Joris Roelofs staat bekend om zijn sublieme techniek en samenwerking met New Yorkse en Nederlandse topmusici. Naast zijn eigen muziekprojecten is Joris voorzitter van de afdeling klarinet (jazz) aan het Conservatorium van Amsterdam en promoveert hij aan de Universiteit van Amsterdam. \nReinier Baas (1985) is een gitarist\, componist en artiest uit Nederland met een eigenzinnig oeuvre. Vanmiddag vormen deze muzikanten een duo en spelen oa stukken van het Instant Composers Pool Orchestra. \nTickets voor het concert en krokettenmaltijd hier verkrijgbaar. \nhttps://www.bimhuis.nl/agenda/instant-composers-pool-kroketten-festijn/\nhttps://spaceistheplace.eu/website/
URL:https://plantagedok.nl/event/instant-composers-pool-krokettenfestijn-bimhuis-space-is-the-place/
LOCATION:Dokzaal
ATTACH;FMTTYPE=image/jpeg:https://plantagedok.nl/wp-content/uploads/2023/09/20231029-SITP-BIMHUIS-kroket-160430martawareliscwillemschwertmann-688x515-1.jpg
END:VEVENT
END:VCALENDAR