BEGIN:VCALENDAR
VERSION:2.0
PRODID:-//Plantage Dok - ECPv6.15.20//NONSGML v1.0//EN
CALSCALE:GREGORIAN
METHOD:PUBLISH
X-ORIGINAL-URL:https://plantagedok.nl
X-WR-CALDESC:Events for Plantage Dok
REFRESH-INTERVAL;VALUE=DURATION:PT1H
X-Robots-Tag:noindex
X-PUBLISHED-TTL:PT1H
BEGIN:VTIMEZONE
TZID:Europe/Amsterdam
BEGIN:DAYLIGHT
TZOFFSETFROM:+0100
TZOFFSETTO:+0200
TZNAME:CEST
DTSTART:20230326T010000
END:DAYLIGHT
BEGIN:STANDARD
TZOFFSETFROM:+0200
TZOFFSETTO:+0100
TZNAME:CET
DTSTART:20231029T010000
END:STANDARD
BEGIN:DAYLIGHT
TZOFFSETFROM:+0100
TZOFFSETTO:+0200
TZNAME:CEST
DTSTART:20240331T010000
END:DAYLIGHT
BEGIN:STANDARD
TZOFFSETFROM:+0200
TZOFFSETTO:+0100
TZNAME:CET
DTSTART:20241027T010000
END:STANDARD
BEGIN:DAYLIGHT
TZOFFSETFROM:+0100
TZOFFSETTO:+0200
TZNAME:CEST
DTSTART:20250330T010000
END:DAYLIGHT
BEGIN:STANDARD
TZOFFSETFROM:+0200
TZOFFSETTO:+0100
TZNAME:CET
DTSTART:20251026T010000
END:STANDARD
END:VTIMEZONE
BEGIN:VEVENT
DTSTART;TZID=Europe/Amsterdam:20241110T060000
DTEND;TZID=Europe/Amsterdam:20241110T230000
DTSTAMP:20260420T073054
CREATED:20241109T140349Z
LAST-MODIFIED:20241110T114310Z
UID:10914-1731218400-1731279600@plantagedok.nl
SUMMARY:WOLF SOUP (album release tour) + Ease Anais
DESCRIPTION:Come immerse yourself with two wonderful duos and delicious italian food on 10 Nov!\n \nWOLF SOUP’s first album ‘the moon moved in its dust belt’ releases on Bandcamp on November 8\, 2024. \nArmed with a multitude of effect pedals\, routed to 10 different guitar amps\, Raphael Vanoli and Richard van Kruysdijk create a sonic 3D landscape. WOLF SOUP uses a unique setup\, in which they rapidly and abruptly switch between amps during playing\, thus creating an enormous depth and an immersive spacial sound experience. \nRaphael Vanoli – Elec. Guitar & 12-string Guitar & Electronics Richard van Kruysdijk – Elec .Baritone Guitar & Electronics \nEase Anais\n \nEase Anais is inspired by Japanese and New Age Environmental Ambient. The duo creates melodic compositions with analog synthesizers that take you outside\, wherever you are. \nNOTE ! 👇🏼 Delicious pasta ai funghi porcini will be served in the restaurant from 18:00-19:30 (First come\, first served) by Amsterdams Sicilian/French chef & guitarist Sandro Fazio – top quality autumnal treat for a friendly price \n18:00 diner\n20:00 Ease Anais (Live)\n21:00 WOLF SOUP (Live)\n23:00 end \nContribution sliding scale: €8-15 (not including diner)
URL:https://plantagedok.nl/event/wolf-soup-album-release-tour-ease-anais/
LOCATION:Dokzaal
ATTACH;FMTTYPE=image/jpeg:https://plantagedok.nl/wp-content/uploads/2024/11/e6531fb3-2579-4d69-ab3e-846dd7681864.jpeg
END:VEVENT
BEGIN:VEVENT
DTSTART;TZID=Europe/Amsterdam:20241119T183000
DTEND;TZID=Europe/Amsterdam:20241119T233000
DTSTAMP:20260420T073054
CREATED:20241004T183733Z
LAST-MODIFIED:20241004T183733Z
UID:10787-1732041000-1732059000@plantagedok.nl
SUMMARY:ORBITS X SPACE IS THE PLACE FALL SERIES #2
DESCRIPTION:dinner 18.30; music 20 h \n2nd evening in the adventurous Orbits x Space is the Place fall series in the basement of the Dokzaal. \nTwo special guests tonight to perform with the international music scene of Amsterdam; one of the front runners of the Scandinavian impro/jazz scene Gard Nilssen and Chicago based saxophonist Ken Vandermark. Drummer Gard Nilssen\, saxophonist Aviv Noam and bassist Omer Govreen will play together for the first time\, Ken Vandermark and Terrie Ex have a long history together\, also with The Ex and Lean Left. Bassist Omer Govreen will play with his own quartet\, consisting of the finest jazz musicians in town.  \n \nAviv Noam / Gard Nilssen / Omer Govreen\nJazz and skilled trio action. Saxophonist Aviv Noam\, who previously won the prestigious Dutch Jazz Competition with his Quartet\, draws inspiration from the avant-garde of the 1950s and ’60s\, infusing his performances with chaos and melodic grooves. Norwegian drummer and composer Gard Nilssen will be coming specifically for this concert\, representing his unique and avant-garde scene\, known for his work with Acoustic Unity Band and Supersonic Orchestra—both of which have previously performed in the Netherlands. Completing the trio is Omer Govreen\, a familiar stage-mate of Aviv and a double bass player active in various formations\, including his own Quartet\, which also features during the fall series.\nAviv Noam – saxophone | Gard Nilssen – drums | Omer Govreen – double bass \nOmer Govreen Quartet\nEmotive and daring\, Omer Govreen’s quartet features\, of course\, Omer himself\, along with Aleksander Sever\, Wouter Kline\, and Floris Kappeyne. After releasing their acclaimed album Maya in 2022\, you can expect elegant yet raw\, propulsive and melodic music presented with verve on stage.\nOmer Govreen – double bass | Aleksander Sever – vibraphone | Floris Kappeyne – piano | Wouter Kühne – drums \n\nKen Vandermark / Terrie Ex\nTerrie Ex and Ken Vandermark’s collaboration is marked by energetic and raw interaction\, exploring the contrasts in their longlasting craftsmanship. Vandermark’s sharp\, turbulent reed rhythms and Terrie’s intense\, dynamic guitar play come together to create an improvisational sound with a touch of humor.\nTerrie Ex – guitar | Ken Vandermark – reeds \n  \n—\nTickets via spaceistheplace.eu\, sliding scale 10\, – 15\,- euro\n\nOrbits x Space is the Place fall series – October 15\, November 19 & December 17 at Dokzaal\, Amsterdam \nContinuing their refreshing programming\, Orbits has offered Amsterdam’s improv scene showcases featuring some of the city’s most creative young musicians. A meant-to-be combination with Space is the Place\, right?! Alignment with the listeners and a good dose of surprising elements are key. Includes a nutritious and tasty meal each time. Come and join us. \nWith: Novelo Vago\, Elder Ones + Karen Ng\, Julien Desprez / Aviv Noam / Gard Nilssen / Omer Govreen\, Omer Govreen Quartet\, Ken Vandermark / Terrie Ex\, Lida Brouskari\, Hristo Goleminov / Siebren Smink\, Ruidoscuro
URL:https://plantagedok.nl/event/orbits-x-space-is-the-place-fall-series-2/
LOCATION:Dokhuis
ATTACH;FMTTYPE=image/png:https://plantagedok.nl/wp-content/uploads/2024/10/SITP-X-ORBITS-NOV-19TH.png
END:VEVENT
END:VCALENDAR