BEGIN:VCALENDAR
VERSION:2.0
PRODID:-//Plantage Dok - ECPv6.15.20//NONSGML v1.0//EN
CALSCALE:GREGORIAN
METHOD:PUBLISH
X-WR-CALNAME:Plantage Dok
X-ORIGINAL-URL:https://plantagedok.nl
X-WR-CALDESC:Events for Plantage Dok
REFRESH-INTERVAL;VALUE=DURATION:PT1H
X-Robots-Tag:noindex
X-PUBLISHED-TTL:PT1H
BEGIN:VTIMEZONE
TZID:Europe/Amsterdam
BEGIN:DAYLIGHT
TZOFFSETFROM:+0100
TZOFFSETTO:+0200
TZNAME:CEST
DTSTART:20230326T010000
END:DAYLIGHT
BEGIN:STANDARD
TZOFFSETFROM:+0200
TZOFFSETTO:+0100
TZNAME:CET
DTSTART:20231029T010000
END:STANDARD
BEGIN:DAYLIGHT
TZOFFSETFROM:+0100
TZOFFSETTO:+0200
TZNAME:CEST
DTSTART:20240331T010000
END:DAYLIGHT
BEGIN:STANDARD
TZOFFSETFROM:+0200
TZOFFSETTO:+0100
TZNAME:CET
DTSTART:20241027T010000
END:STANDARD
BEGIN:DAYLIGHT
TZOFFSETFROM:+0100
TZOFFSETTO:+0200
TZNAME:CEST
DTSTART:20250330T010000
END:DAYLIGHT
BEGIN:STANDARD
TZOFFSETFROM:+0200
TZOFFSETTO:+0100
TZNAME:CET
DTSTART:20251026T010000
END:STANDARD
END:VTIMEZONE
BEGIN:VEVENT
DTSTART;TZID=Europe/Amsterdam:20241010T200000
DTEND;TZID=Europe/Amsterdam:20241010T233000
DTSTAMP:20260421T155410
CREATED:20241009T065844Z
LAST-MODIFIED:20241009T065844Z
UID:10870-1728590400-1728603000@plantagedok.nl
SUMMARY:MOLK concert - Ben La Mar Gay (US)\, DJ Super Inca
DESCRIPTION:an intimate evening with \nBen La Mar Gay (Chicago\, US)\n& DJ Superinca
URL:https://plantagedok.nl/event/molk-concert-ben-la-mar-gay-us-dj-super-inca/
LOCATION:Dokzaal
ATTACH;FMTTYPE=image/jpeg:https://plantagedok.nl/wp-content/uploads/2024/10/20241010-molk.jpeg
END:VEVENT
BEGIN:VEVENT
DTSTART;TZID=Europe/Amsterdam:20241017T200000
DTEND;TZID=Europe/Amsterdam:20241017T230000
DTSTAMP:20260421T155410
CREATED:20241014T150600Z
LAST-MODIFIED:20241014T150600Z
UID:10878-1729195200-1729206000@plantagedok.nl
SUMMARY:Two amazing bands: MIRAGE & TRAUMATIZER
DESCRIPTION:2 amazing bands.\nVegan food for cheap at 6:00 and than doors at 8:00Damage is 5 euros or more.\n\nMIRAGE https://roachlegrecords.bandcamp.com/album/immagini-postumeTheir sound is unique\, with the (mostly) Italian language vocals tying them to the rich history of Italian hardcore while the music draws on post-punk atmosphere and psychedelic texture without sounding like anything other than hardcore punk. The chorus on the guitar and the dark chord progressions make comparisons to spooky-sounding punk bands like Part 1 and Rudimentary Peni obvious\, but Mirage really reminds me of Wretched’s last 12”\, La Tua Morte Non Aspetta. Immagini Postume feels more interesting\, exciting\, and better-executed than most of the vinyl releases I hear these days\, so if this is what Mirage is offering as their demo cassette\, I’m very excited to see where they go from here. While we wait to find out\, though\, Immagini Postume will give us plenty to chew on.\n\n\n\nTRAUMATIZERhttps://neontasterecords.bandcamp.com/album/traumatizerThis is blistering D-beat with a handful of huge\, metallic riffing and a vocalist that eats nails for dessert. There’s a blown-out production that brings to mind Bootlicker’s earlier recordings but where the Lickers line American Hardcore with No Future stomp\, Traumatizer goes full tilt into the noize and grips you by the throat. There’s no pogo present\, just rage and violence. Toss it on while you take the late-night walk home from the bar. These 6 tracks will make a compelling case that those darting eyes and high hackles in the alleyway are the threat you were worried about. Those focused pupils from an animal whose only option is to take as many of you with them as they can. You didn’t even mean any harm\, poor you. But here we are\, kill or be killed. Prey or predator. No one gets out alive\, we just measure blood loss for points.
URL:https://plantagedok.nl/event/two-amazing-bands-mirage-traumatizer/
LOCATION:Dokzaal & Dokhuis galerie\, Plantage Doklaan 8\, Amsterdam\, 1018CM\, Netherlands
ATTACH;FMTTYPE=image/jpeg:https://plantagedok.nl/wp-content/uploads/2024/10/20241017-mirage-1.jpeg
END:VEVENT
BEGIN:VEVENT
DTSTART;TZID=Europe/Amsterdam:20241031T080000
DTEND;TZID=Europe/Amsterdam:20241031T170000
DTSTAMP:20260421T155410
CREATED:20241217T130225Z
LAST-MODIFIED:20241217T175922Z
UID:11054-1730361600-1730394000@plantagedok.nl
SUMMARY:Loom: Boris de Klerk\, Görkem Arıkan & Elina Tapio (performances/sound\, by Subbacultcha and We Are Public)
DESCRIPTION:Subbacultcha and We Are Public present the fourth edition of Loom: a recurring (on- and offline) program showcasing a multitude of creative disciplines. In 2024\, Loom will house 5 events\, coinciding with talks\, releases and a publication. To wrap it all up\, we’ll host a closing festival in winter. “Ginning\, opening\, cleaning\, combing\, drawing\, spinning\, winding\, warping\, sizing and beaming.” \nThis time around\, we have invited Antwerp-based performance and sound artist Boris de Klerk\, whose practice focuses on ‘the exploration of live sound in a performative space’. He is particularly interested in investigating the sensory possibilities of space in relation to the performer and the audience. By approaching the theatrical space as a composer\, Boris attempts to reorganize the senses\, exploring what happens when you create theater where sound takes the lead and mise-en-scène\, set design\, lighting\, and choreography are consequences of choices made based on auditory elements. The question that guides most of his work is: “How theatrical can sound be\, and what happens when you approach theater not as a visual but as an auditory medium?” \nInterdisciplinary sound-artist and performer Görkem Arıkan will present Wirwarp (2024)\, a self-made instrument that draws inspiration from Michel Waisvisz’ distinctive approach to sonic interactions and musical expression. Wirwarp is made out of conductive rubber and cord stretch sensors that create a dynamic mesh on a wooden frame. Through warping and tangling the mesh-pulling cords\, pushing the nodes\, and adjusting the frame’s angle with moveable hinges\, Görkem is able to play the instrument\, turning it into a canvas for sonic exploration. \nElina Tapio will be DJ’ing during the evening. Her sets embody an experimental ethos\, favouring dark and eerie soundscapes\, blending psychedelic rhythms with industrial atmospheres. She is currently a resident at Mutant Radio\, and co-hosts the radio shows Scrying the Landscape and axia maxim. She has also released music under the moniker eoobe\, together with Marco Segato. \nGeke Zaal has provided the hypnotizing artwork for this installment. \nLoom is free for Subbacultcha and We Are Public members.\n– Subbacultcha members can reserve a free ticket by sending an email here with ‘Loom’ in the subject + your name in the text.\n– We Are Public members can reserve their free ticket here.\n– Regular tickets are €12 and can be purchased here. \nLoom is kindly supported by Amsterdams Fonds voor de Kunst & Fonds 21.
URL:https://plantagedok.nl/event/loom-boris-de-klerk-gorkem-arikan-elina-tapio-performances-sound-by-subbacultcha-and-we-are-public/
LOCATION:Dokzaal
ATTACH;FMTTYPE=image/jpeg:https://plantagedok.nl/wp-content/uploads/2024/12/20241031-Wirwarp-Prototype.-Photo-courtesy-of-the-artist.jpeg
END:VEVENT
END:VCALENDAR