BEGIN:VCALENDAR
VERSION:2.0
PRODID:-//Plantage Dok - ECPv6.15.20//NONSGML v1.0//EN
CALSCALE:GREGORIAN
METHOD:PUBLISH
X-ORIGINAL-URL:https://plantagedok.nl
X-WR-CALDESC:Events for Plantage Dok
REFRESH-INTERVAL;VALUE=DURATION:PT1H
X-Robots-Tag:noindex
X-PUBLISHED-TTL:PT1H
BEGIN:VTIMEZONE
TZID:Europe/Amsterdam
BEGIN:DAYLIGHT
TZOFFSETFROM:+0100
TZOFFSETTO:+0200
TZNAME:CEST
DTSTART:20240331T010000
END:DAYLIGHT
BEGIN:STANDARD
TZOFFSETFROM:+0200
TZOFFSETTO:+0100
TZNAME:CET
DTSTART:20241027T010000
END:STANDARD
BEGIN:DAYLIGHT
TZOFFSETFROM:+0100
TZOFFSETTO:+0200
TZNAME:CEST
DTSTART:20250330T010000
END:DAYLIGHT
BEGIN:STANDARD
TZOFFSETFROM:+0200
TZOFFSETTO:+0100
TZNAME:CET
DTSTART:20251026T010000
END:STANDARD
BEGIN:DAYLIGHT
TZOFFSETFROM:+0100
TZOFFSETTO:+0200
TZNAME:CEST
DTSTART:20260329T010000
END:DAYLIGHT
BEGIN:STANDARD
TZOFFSETFROM:+0200
TZOFFSETTO:+0100
TZNAME:CET
DTSTART:20261025T010000
END:STANDARD
END:VTIMEZONE
BEGIN:VEVENT
DTSTART;TZID=Europe/Amsterdam:20250130T180000
DTEND;TZID=Europe/Amsterdam:20250130T230000
DTSTAMP:20260422T040039
CREATED:20241219T212030Z
LAST-MODIFIED:20250207T124721Z
UID:11062-1738260000-1738278000@plantagedok.nl
SUMMARY:Dok Night | The Last Supper presents: Time for Revolution!
DESCRIPTION:Every Thursday there’s a Vegan Dinner accompanying an exhibition opening/closing\, a live performance\, live music\, movie screening or …\nCome meet other people interested in art and activism\, good food and great prices. Bring your favourite game and your friends. Or meet new people at the bar. \n*** \n18.00 Bar open \n18.30 Vegan Food by Het Laatste Avondmaal \n20:30 The Last Supper presents: Time for Revolution! \nCome and learn from the first revolution of the 21st century and how it can guide struggle movements in the Netherlands and Belgium! \nThe Rojava Revolution began in 2012 with the declaration of autonomy for northern and eastern Syria. More than a decade after it began this social\, multicultural and feminist revolution continues to grow and expand. The Turkish state is currently attempting to carry out a military invasion of the autonomous territory in order to put an end to this revolutionary experiment\, but the historic resistance of the peoples of the region is preventing the invasion from advancing. \nThe paradigm of Democratic Modernity on which the Rojava Revolution is based remains little-known. Developed by Abdullah Öcalan\, it guides the Kurdistan Liberation Movement. Rejecting the nation-state\, this paradigm proposes a social project based on radical democracy\, women’s liberation and social ecology. \nBeyond the Middle East\, how can this paradigm serve as a guide for the development of new revolutionary dynamics? How can we open up new perspectives for liberation from the heart of capitalist modernity?\nHow have young people been organizing for several years to build democratic confederalism internationally? \nThis evening is proposed by Lêgerîn\, a magazine founded in Rojava\, which today is being developed autonomously by young people present on all the continents.
URL:https://plantagedok.nl/event/dok-night-64/
LOCATION:Dokhuis\, Plantage Doklaan 8-12\, Amsterdam\, Netherlands
ATTACH;FMTTYPE=image/jpeg:https://plantagedok.nl/wp-content/uploads/2024/12/20240130-signal-2025-01-27-163306_002.jpeg
END:VEVENT
END:VCALENDAR