BEGIN:VCALENDAR
VERSION:2.0
PRODID:-//Plantage Dok - ECPv6.15.20//NONSGML v1.0//EN
CALSCALE:GREGORIAN
METHOD:PUBLISH
X-ORIGINAL-URL:https://plantagedok.nl
X-WR-CALDESC:Events for Plantage Dok
REFRESH-INTERVAL;VALUE=DURATION:PT1H
X-Robots-Tag:noindex
X-PUBLISHED-TTL:PT1H
BEGIN:VTIMEZONE
TZID:Europe/Amsterdam
BEGIN:DAYLIGHT
TZOFFSETFROM:+0100
TZOFFSETTO:+0200
TZNAME:CEST
DTSTART:20230326T010000
END:DAYLIGHT
BEGIN:STANDARD
TZOFFSETFROM:+0200
TZOFFSETTO:+0100
TZNAME:CET
DTSTART:20231029T010000
END:STANDARD
BEGIN:DAYLIGHT
TZOFFSETFROM:+0100
TZOFFSETTO:+0200
TZNAME:CEST
DTSTART:20240331T010000
END:DAYLIGHT
BEGIN:STANDARD
TZOFFSETFROM:+0200
TZOFFSETTO:+0100
TZNAME:CET
DTSTART:20241027T010000
END:STANDARD
BEGIN:DAYLIGHT
TZOFFSETFROM:+0100
TZOFFSETTO:+0200
TZNAME:CEST
DTSTART:20250330T010000
END:DAYLIGHT
BEGIN:STANDARD
TZOFFSETFROM:+0200
TZOFFSETTO:+0100
TZNAME:CET
DTSTART:20251026T010000
END:STANDARD
END:VTIMEZONE
BEGIN:VEVENT
DTSTART;TZID=Europe/Amsterdam:20240601T150000
DTEND;TZID=Europe/Amsterdam:20240601T233000
DTSTAMP:20260421T142037
CREATED:20240508T193824Z
LAST-MODIFIED:20240508T194009Z
UID:10415-1717254000-1717284600@plantagedok.nl
SUMMARY:C.A.L.L F.E.S.T.I.V.A.L.
DESCRIPTION:AN INTERNATIONAL CONVENING OF CREATIVE MUSIC\nCHICAGO–AMSTERDAM–LONDON–LOS ANGELES\nFEATURING: Ben Lamar Gay | Ben Boye | Matthew Lux | Frank Rosaly | Ibelisse Guardia Ferragutti | Marta Warelis | Ruth Goller | Bex Burch | Laurel Pardue | Elisabeth Coudoux | Lucija Gregov | Mola Sylla | Mary Oliver | Giuseppe Doronzo | Oscar Jan Hoogland | Jochem Van Tol | Jacob Maskell-Key | DJ King Hippo (Iarc) | DJ \nEntree sliding scale: pay what you can! We would like to welcome everybody. \nTickets from € 13\,50 // 19\,50 // 29\,50 (support us!) \nDinner € 13\,50 \nCo-organised by SITP\, Molk Factory\, International Anthem Recordings \nAmsterdam\, we’re calling you! Mark the advent of June for C.A.L.L F.E.S.T.I.V.A.L. with the finest artists from the experimental impro-scene–both locally and internationally renowned. Initiated by Frank Rosaly and Ibelisse Guardia Ferragutti\, the day-long festival includes a stunning 17 artists (and more to be confirmed) from the circles surrounding Space is the Place\, MOLK Factory\, and the International Anthem Recordings label. \nExpect radical combinations of musicians that’ll cross musical swords together for the first time. Confirmed artists are no other than Ben LaMar Gay\, Ben Boye\, Matthew Lux\, Frank Rosaly\, Ibelisse Guardia Ferragutti\, Marta Warelis\, Ruth Goller\, Bex Berch\, Laurel Pardue\, Elisabeth Coudoux\, Lucija Gregov\, Molla Sylla\, Mary Oliver\, Giuseppe Doronzo\, Oscar Jan Hoogland\, Jochem van Tol\, and DJ King Hippo (IARC). \nMultiple sensory courses will be served in the historic Plantage Dok building throughout the day–both through John Pastinaak’s trusted cooking skills and a pop-up record store where you can get exclusive gems first-hand from the many artists. \n  \nSee you on the first of June!
URL:https://plantagedok.nl/event/c-a-l-l-f-e-s-t-i-v-a-l/
LOCATION:Dokzaal
ATTACH;FMTTYPE=image/jpeg:https://plantagedok.nl/wp-content/uploads/2024/05/CALLFestival_DEF.jpeg
END:VEVENT
BEGIN:VEVENT
DTSTART;TZID=Europe/Amsterdam:20240606T180000
DTEND;TZID=Europe/Amsterdam:20240606T230000
DTSTAMP:20260421T142037
CREATED:20240418T084914Z
LAST-MODIFIED:20240603T195544Z
UID:10367-1717696800-1717714800@plantagedok.nl
SUMMARY:Dok Night | BENEFIET voor de gearresteerden bij de Gaza solidariteitsprotesten
DESCRIPTION:Benefietavond voor de gearresteerden bij de Gaza solidariteitsprotesten met vegan eten en de vertoning van Kill zone: Inside Gaza. Een documentaire door 12 Palestijnse filmmakers over de laatste 200 dagen in Gaza. \nDonatie suggestie 5 – 10 €
URL:https://plantagedok.nl/event/dok-night-45/
LOCATION:Dokhuis\, Plantage Doklaan 8-12\, Amsterdam\, Netherlands
ATTACH;FMTTYPE=image/jpeg:https://plantagedok.nl/wp-content/uploads/2024/04/WhatsApp-Image-2024-06-03-at-16.36.31.jpeg
END:VEVENT
BEGIN:VEVENT
DTSTART;TZID=Europe/Amsterdam:20240613T180000
DTEND;TZID=Europe/Amsterdam:20240613T230000
DTSTAMP:20260421T142037
CREATED:20240418T085108Z
LAST-MODIFIED:20240612T123335Z
UID:10369-1718301600-1718319600@plantagedok.nl
SUMMARY:Dok Night | KB_Presents: Impro+Song=Love!!!
DESCRIPTION:18:00 Bar open \n19:00 Vegan Food by Mody: Bamia (ocra stew) with rice and green salad / € 8 / cash only \n20:30 KB_ Presents: Impro+Song = LOVE!!! \n  \nWendy Eisenberg + Beatrice Sberna & Gabriel de Oliveira\nConnecting expressions of impro-songwriting from New York to Amsterdam; a workshop + concert\nevening.\nIn a previously unheard constellation\, rising NYC impro star Wendy Eisenberg and emerging\ncreative musicians from the European scene promote an encounter of improviser-songwriters of\ndiverse backgrounds. Invited by collective-label KB_\, Eisenberg joins impro-folk-art-punk duo\nBeatrice Sberna & Gabriel de Oliveira for an EU tour throughout mid-June\, developing new\nmaterial in diverse settings. Together they promise an evening of cathartic improvisation and sonic\nnarratives touching themes of life\, death\, adulthood\, youth\, fear\, joy\, the art scene\, the supernatural\nand more.\nBassist Alessandro Fongaro and drummer Sun-Mi Hong (both on awarded projects Pietre\, Sun-Mi\nHong Quintet\, Ambergris) will play an opening set in duo for the evening.\nBefore the concert\, Wendy will facilitate a workshop on their practice merging songwriting and\nimprovisation and give insight into their solo and ensemble approach – bring your instruments and\nears! \n  \nWendy Eisenberg\nOver the last five years Wendy Eisenberg has been keeping listeners guessing. Nominally an improvising guitarist\, they don’t recognize any musical limitations\, perpetually finding ways to\napply a deeply exploratory practice to a wide variety of contexts. Eisenberg plays solo guitar as well as banjo in both acoustic and electric settings\, warped post-punk songs in the trio Editrix\,\ndelicately dangerous guitar music in the critically acclaimed Bill Orcutt Guitar Quartet\, country-free jazz in the band Darlin’\, with Lester St. Louis and Ryan Sawyer\, febrile post-Prime Time free\njazz in Strictly Missionary\, and punk-prog in a trio with Trevor Dunn and Ches Smith. As Eisenberg told fellow guitarist Nick Millevoi in an interview for Premier Guitar in 2021\, “I need to be\nin a punk band at the same time as I need to be playing free improv\, at the same time as I need to be playing songs. All at the same time—otherwise none of the practices will work for me.”\nTheir musical range isn’t a glib manifestation of eclecticism\, but a genuine artistic essence.\nEisenberg has collaborated with a disparate array of musicians from all points along the creative\nmusic spectrum\, including Bill Orcutt\, Allison Miller\, Shane Parish\, Francisco Mela\, Carla Kihlstedt\,\nJohn Zorn\, and Caroline Davis. They have released music on Astral Spirits\,Tzadik\, VDSQ\, Ba Da\nBing! Records\, Exploding In Sound\, Garden Portal\, Feeding Tube\, Out of Your Head\, and Dear Life\nRecords\, and performed everywhere from intimate basements to international festivals including\nMoers\, Le Guess Who? and Big Ears. They also write words about music and other things\, and have\npublished work in John Zorn’s Arcana series\, The Contemporary Music Review\, Talkhouse\, and\nSound American \nBeatrice Sberna & Gabriel de Oliveira\nAt once adventurous and solid\, candid and mysterious\, the unprecedented sound of Beatrice Sberna & Gabriel de Oliveira has recently drawn attention in the Dutch creative music scene\, echoing in several collaborations and a budding reputation. The duo’s music is an uncompromising expression of impro-songwriting influenced by Italian cantautori and Brazilian “folk” traditions\, contemporary pop and jazz\, all with a slight punk ethos and heartfelt delicacy. While deeply rooted in their native traditions\, the pair nevertheless reaches for a new\, mixed sound that transposes the expected voice-and-guitar settings. Following their independent EP Verão é Neve (2021)\, they now prepare to release a debut LP\, revealing a body of work sculpted over the years. In it\, they are joined by an unique ensemble of acclaimed and rising names\, including Sun-Mi Hong\, Alessandro Fongaro\, Federico Calcagno\nand Ketija Ringa-Karahona and collaborate with featured artists in the league of David Binney and Binkbeats. Their previous work has been commissioned by Kunstinstituut Melly and Le Guess Who?\, and includes collaborations with Yamandú Costa\, Emanuele Maniscalco\, Toninho Horta\, and The Klittens. \n*** \nWendy Eisenberg – electric guitar\, voice\nBeatrice Sberna – voice\nGabriel de Oliveira – 8-string and electric guitars\, viola de cocho\, voice\nAlessandro Fongaro – double bass\nSun-Mi Hong – drums \nThis event is supported by Space is the Place and is part of  “KB_ Presents”\, the collective’s official live program for the 2024 season\, funded by the Amsterdam Fonds voor de Kunst.
URL:https://plantagedok.nl/event/dok-night-46/
LOCATION:Dokhuis\, Plantage Doklaan 8-12\, Amsterdam\, Netherlands
END:VEVENT
BEGIN:VEVENT
DTSTART;TZID=Europe/Amsterdam:20240620T180000
DTEND;TZID=Europe/Amsterdam:20240620T230000
DTSTAMP:20260421T142037
CREATED:20240418T085215Z
LAST-MODIFIED:20240612T124057Z
UID:10372-1718906400-1718924400@plantagedok.nl
SUMMARY:Dok Night | Opening Exhibition AiR Nseabasi Akpan
DESCRIPTION:18:00 bar open \n19:00 Vegan Food by Suzy Creamcheese / 2-courses for €8-10 \n  \nOpening Exhibition ‘A Visual Diary’ by Nseabasi Akpan \nThe Nigeria photographer\, Nseabasi Akpan\, has documented the lives of many individuals during his travels through Africa where he facilitated photography workshops and motivational talks for young people. \nNseabasi goes beyond taking photos; he builds connections with his subjects\, learns about their lives\, and shares their stories. Through his photography\, he aims to educate\, entertain\, and highlight social injustices\, givingLv voice to those who might otherwise go unheard. \nFrom the vibrant streets of Ibadan to the picturesque canals of Amsterdam\, join Nseabasi Akpan on this visual storytelling as he brings a piece of Ibadan to Amsterdam\, sharing stories of life\, love\, art and everything in between. \nNseabasi Akpan lives and work in Ibadan\, Nigeria. \n \n 
URL:https://plantagedok.nl/event/dok-night-47/
LOCATION:Dokhuis
ATTACH;FMTTYPE=image/jpeg:https://plantagedok.nl/wp-content/uploads/2024/04/WhatsApp-Image-2024-06-09-at-22.06.58.jpeg
END:VEVENT
BEGIN:VEVENT
DTSTART;TZID=Europe/Amsterdam:20240624T193000
DTEND;TZID=Europe/Amsterdam:20240624T220000
DTSTAMP:20260421T142037
CREATED:20240619T151126Z
LAST-MODIFIED:20240619T151213Z
UID:10533-1719257400-1719266400@plantagedok.nl
SUMMARY:World's Appreciated Kitsch presents: Time X Heist/Snake Eater/GU at Dokhuis Galerie
DESCRIPTION:TIME X HEIST (straight edge hardcore\, Denver/Colorado\, USA)\nFirst European tour for the Colorado Straight Edge band Time X Heist\, which features members of XdeadbeatX\, Energy\, and Spirits/Test of Time.’TIME X HEIST bring some of the finest hardcore coming out of USA at the moment. Fast paced\, hard hitting 80s inspired straight edge youth crew from a band fresh onto the scene. TIME X HEIST captures the true essence of the straight edge lifestyle while delivering simple\, yet brilliant punk/hardcore.’ (Loudmouth Records). https://timexheist.bandcamp.com \nSnakeEater (Utrecht\, Netherlands)\nSnake Eater is here to kick colonial ass. With their brand of in-your-face grindy hardcore punk\, they’re a fresh face in the scene. Consisting in part of ex-members of melodic hardcore act ‘to live among wolves’\, they’re here and ready to fight. Their first demo is coming soon! \nGu (Amsterdam\, Netherlands)\nGu is hard-hitting Hardcore Punk from Amsterdam. Consisting of scene veterans from across Europe\, Gu brings fast & intense music\, like Hardcore should be. https://guhxc.bandcamp.com/album/gu-demo-2023 \n– \nDoors: 19.30Bands: 20.00Suggested donation: 8-10€ (no pre-sale\, cash only)\nPlantage Dok – Plantage Doklaan 8-12\, 1018CM\, Amsterdam \n 
URL:https://plantagedok.nl/event/worlds-appreciated-kitsch-presents-time-x-heist-snake-eater-gu-at-dokhuis-galerie/
LOCATION:Dokhuis
ATTACH;FMTTYPE=image/jpeg:https://plantagedok.nl/wp-content/uploads/2024/06/timeheist.jpeg
END:VEVENT
BEGIN:VEVENT
DTSTART;TZID=Europe/Amsterdam:20240627T180000
DTEND;TZID=Europe/Amsterdam:20240627T230000
DTSTAMP:20260421T142037
CREATED:20240418T085330Z
LAST-MODIFIED:20240418T085330Z
UID:10375-1719511200-1719529200@plantagedok.nl
SUMMARY:Last Dok Night before the summer break
DESCRIPTION:
URL:https://plantagedok.nl/event/last-dok-night-before-the-summer-break/
LOCATION:Dokhuis\, Plantage Doklaan 8-12\, Amsterdam\, Netherlands
END:VEVENT
END:VCALENDAR