BEGIN:VCALENDAR
VERSION:2.0
PRODID:-//Plantage Dok - ECPv6.15.20//NONSGML v1.0//EN
CALSCALE:GREGORIAN
METHOD:PUBLISH
X-WR-CALNAME:Plantage Dok
X-ORIGINAL-URL:https://plantagedok.nl
X-WR-CALDESC:Events for Plantage Dok
REFRESH-INTERVAL;VALUE=DURATION:PT1H
X-Robots-Tag:noindex
X-PUBLISHED-TTL:PT1H
BEGIN:VTIMEZONE
TZID:Europe/Amsterdam
BEGIN:DAYLIGHT
TZOFFSETFROM:+0100
TZOFFSETTO:+0200
TZNAME:CEST
DTSTART:20220327T010000
END:DAYLIGHT
BEGIN:STANDARD
TZOFFSETFROM:+0200
TZOFFSETTO:+0100
TZNAME:CET
DTSTART:20221030T010000
END:STANDARD
BEGIN:DAYLIGHT
TZOFFSETFROM:+0100
TZOFFSETTO:+0200
TZNAME:CEST
DTSTART:20230326T010000
END:DAYLIGHT
BEGIN:STANDARD
TZOFFSETFROM:+0200
TZOFFSETTO:+0100
TZNAME:CET
DTSTART:20231029T010000
END:STANDARD
BEGIN:DAYLIGHT
TZOFFSETFROM:+0100
TZOFFSETTO:+0200
TZNAME:CEST
DTSTART:20240331T010000
END:DAYLIGHT
BEGIN:STANDARD
TZOFFSETFROM:+0200
TZOFFSETTO:+0100
TZNAME:CET
DTSTART:20241027T010000
END:STANDARD
END:VTIMEZONE
BEGIN:VEVENT
DTSTART;TZID=Europe/Amsterdam:20230202T180000
DTEND;TZID=Europe/Amsterdam:20230202T230000
DTSTAMP:20260422T174827
CREATED:20230110T084914Z
LAST-MODIFIED:20230122T201302Z
UID:9433-1675360800-1675378800@plantagedok.nl
SUMMARY:Dok Night | Docu Hippies From Hell
DESCRIPTION:18:00\nVegan Moroccan Food by Hafid\n***\n20:00\nPoppe & Nemeth presenteren\nHIPPIES FROM HELL\ndocumentaire van Ine Poppe en Sam Nemeth uit 2001 \n  \n \nStart 20:00 / 53 min. \nIne Poppe en Sam Nemeth tonen op hun eerste Dokavond (de tweede is donderdag 9 februari) de gerestaureerde versie van de legendarische documentaire Hippies from Hell uit 2001. De film is een portret van de gemeenschap achter Nederlands’ eerste echte internetprovider XS4all. Uitgebreid komt de generatie hackers aan het woord die het blad Hacktic publiceerde. De subcultuur is rond 2000\, toen de film werd gedraaid\, net aan het eerste moment van reflectie toe. De roerige eerste decennia van de digitale revolutie zijn achter de rug en er wordt door een aantal mensen de balans opgemaakt. De documentaire werkt toe naar het hackerfestival HAL (Hackers at Large) in 2001\, waar alle draadjes bij elkaar komen. \nHippies from Hell beleeft na de presentatie op het IDFA in 2002 een opmerkelijke geschiedenis. Opdrachtgever VPRO wil hem aanvankelijk om onopgehelderde redenen niet uitzenden. Daarna eist Ine in de onderhandelingen die erop volgen het auteursrecht op. De VPRO gaat daar uiteindelijk mee akkoord. Vervolgens wordt HFH de eerste Europese film die officieel een Creative Commons licentie krijgt\, persoonlijk door CC initiatiefnemer Lawrence Lessig uitgereikt. De VPRO organiseert rond 2010 een digitale docu-reeks en wil dan alsnog HFH uitzenden (maar moet dan betalen voor het uitzenden van hun eigen productie). \nHippies from Hell is in de beginjaren via de server van de Waag downloadbaar geweest en in die vorm rond de 2 miljoen keer bekeken. Daarna is de documentaire op diverse manieren gepirateerd\, ondanks de CC licentie. Nog in 2022 moesten we Journeyman film -tevergeefs- sommeren de film niet meer te verkopen onder de naam Hackers from Hell via Amazon. Journeyman doet dat nog steeds\, in de US\, waar ze voor het Europees recht lastig te bereiken zijn. \nThe exhibition Landschapslijnen is on display till February 2nd 2023.
URL:https://plantagedok.nl/event/dok-night-4/
LOCATION:Dokhuis\, Plantage Doklaan 8-12\, Amsterdam\, Netherlands
ATTACH;FMTTYPE=image/jpeg:https://plantagedok.nl/wp-content/uploads/2023/01/PlantageDok_flyer_foto.jpg
END:VEVENT
BEGIN:VEVENT
DTSTART;TZID=Europe/Amsterdam:20230203T200000
DTEND;TZID=Europe/Amsterdam:20230203T220000
DTSTAMP:20260422T174827
CREATED:20230124T175339Z
LAST-MODIFIED:20230124T175339Z
UID:9470-1675454400-1675461600@plantagedok.nl
SUMMARY:Subbacultcha X MOLK: Julia Reidy + Frö
DESCRIPTION:We’re happy to welcome back Julia Reidy and Frö for a night of sci-fi folk music. \nCritics have described Julia Reidy‘s music as “properly singular\,” blending “immense knowledge of American primitive folk music with microtonal experimentalism and abstract pop vocalizing.” Reidy’s work has been compared to a range artists\, from Hope Sandoval and Talk Talk to Jim O’Rourke and Tashi Wada Group\, while ultimately remaining distinct. Frö makes experimental electronics with haunting vocals\, “going from femme-folk to post-internet information-overload.” Her fascination lies in the voice as the body’s given instrument\, one we always carry with us.  Join us for this special show at Dokzaal\, MOLK Factory on February 3rd. \n  \nTickets are free for Subbacultcha members and €15\,- for non-members. Please make a reservation by sending an email to mailinglist@subbacultcha.nl with ‘Julia Reidy’ in the subject line + your name in the email. Tickets can be purchased here. We update the RSVP list every Wednesday.
URL:https://plantagedok.nl/event/subbacultcha-x-molk-julia-reidy-fro/
LOCATION:Dokzaal
ATTACH;FMTTYPE=image/png:https://plantagedok.nl/wp-content/uploads/2023/01/03_02-JuliaReidy-news_telegr.png
END:VEVENT
BEGIN:VEVENT
DTSTART;TZID=Europe/Amsterdam:20230209T180000
DTEND;TZID=Europe/Amsterdam:20230209T230000
DTSTAMP:20260422T174827
CREATED:20230110T085021Z
LAST-MODIFIED:20230119T212555Z
UID:9435-1675965600-1675983600@plantagedok.nl
SUMMARY:Dok Night | Docu Them Fucking Robots
DESCRIPTION:18:00\nVegan Food by Chef Lips\n***\n20:00\nPoppe & Nemeth presenteren\nTHEM FUCKING ROBOTS\n\ndocumentaire van Ine Poppe en Sam Nemeth uit 2011 \n  \n \nStart 20:00 / 53 min. \nVoor wie nu de populariteit van kinetische kunst meemaakt is het moeilijk te geloven dat de combinatie techniek en kunst aanvankelijk behoorlijk problematisch was. Norman White\, een van oorsprong Amerikaanse kunstenaar die al sinds de seventies vanuit Toronto opereert was een van de pioniers van wat hij zelf ‘robot-kunst’ noemt. \nWhite gaf naast zijn kunstpraktijk tot 2016 les aan Radio Television Arts Department of Ryerson University\, Toronto\, Ontario \nThem Fucking Robots graaft in White’s geschiedenis en laat diverse collega-kunstenaars en kunsthistorici aan het woord. We zien Norman White uitgebreid in zijn werkplaats in Durham\, Ontario. Ook spreken de makers met kunstenaars die hij les heeft gegeven of door hem beïnvloed zijn. \nThem Fucking Robots is een indringend project van een onafhankelijke geest die een generatie kunstenaars opleidde die inmiddels overal op de wereld hun invloed laten gelden.
URL:https://plantagedok.nl/event/dok-night-5/
LOCATION:Dokhuis\, Plantage Doklaan 8-12\, Amsterdam\, Netherlands
ATTACH;FMTTYPE=image/jpeg:https://plantagedok.nl/wp-content/uploads/2023/01/PlantageDok_flyer_foto.jpg
END:VEVENT
BEGIN:VEVENT
DTSTART;TZID=Europe/Amsterdam:20230216T180000
DTEND;TZID=Europe/Amsterdam:20230216T230000
DTSTAMP:20260422T174827
CREATED:20230110T085237Z
LAST-MODIFIED:20230213T162413Z
UID:9437-1676570400-1676588400@plantagedok.nl
SUMMARY:Dok Night – Vegan Food & Symbiopsychotaxicinema presents CAIRO STATION (1958)
DESCRIPTION:*** \n19:00 Affordable Vegan Food by Hafid\n \n*** \n20:30 Symbiopsychotaxicinema\n \n*** \nSYMBIOPSYCHOTAXICINEMA \nFilms for Those Who Care \nPresented by Jeffrey Badcock \nA series of socially engaged movies\, screened once a month on Thursdays. Touching on such hot topics as immigration\, homelessness\, racism\, education\, radical gender propositions\, the pandemic and gentrification\, these films not only explore visionary politics\, but are also chosen to stir our imagination and creativity. The essence of cinema is the collective experience\, and these screenings are aimed at creating intimate communities again in an increasingly hectic and fragmented world. \n  \n \nCAIRO STATION 1958\n(باب الحديد )\nDirected by Youssef Chahine\n77 minutes\nIn Arabic with English subtitles \n  \nWhen this movie was made it opened up what was possible in Egyptian cinema. The kinds of movies made in Egypt during this period were mostly light\, upbeat romantic comedies. This film showed another side of Egypt and humanity in general… a dark sensual side that almost embodies a kind of madness. This flick is certainly about eroticism\, but is also about the perilous predicament of any outcast\, anyone excluded from society. It is also a snapshot of Egypt going through massive social change\, with Egyptian rock n’ roll entering the picture at one point\, along with feminist gangs demonstrating before news reporters. \nThe story is about many different characters at the teeming Cairo train station… but at the same time it focuses on the lives of several key players. The main one is a poverty-stricken newspaper seller named Qenawi who lives in a ramshackle shack/hut. This guy has gone a bit nuts\, and surprisingly is played by the director himself in a totally lunatic performance. Director Chahine has a wicked ability to enter human psychology\, with the sharpness of a scalpel. I have personally become skeptical whenever someone talks about ‘human nature’ as if it can be totally separated from the society and culture it developed in. I’m not sure\, but it seems to me Chahine came to the same conclusion. \nThe dazzling visuals of the film is a beautiful fusion of neo-realism and film noir. The mood is mostly bright\, but can suddenly switch on a dime\, without any expectation\, from light to dark and vice versa. It is a film that documents how the poor survive\, forced into petty crime and always being chased by the police… but it also emerges as a cutting edge thriller about repression in general—not only of the lower classes\, but also the repression of sexuality\, and of women through male violence. \n\n\n\nStart 20:30\nFree screening
URL:https://plantagedok.nl/event/dok-night-vegan-food-symbiopsychotaxicinema/
LOCATION:Dokzaal & Dokhuis galerie\, Plantage Doklaan 8\, Amsterdam\, 1018CM\, Netherlands
ATTACH;FMTTYPE=image/jpeg:https://plantagedok.nl/wp-content/uploads/2023/01/PlantageDok_flyer_foto.jpg
END:VEVENT
BEGIN:VEVENT
DTSTART;TZID=Europe/Amsterdam:20230223T180000
DTEND;TZID=Europe/Amsterdam:20230223T230000
DTSTAMP:20260422T174827
CREATED:20230110T085416Z
LAST-MODIFIED:20230217T174354Z
UID:9439-1677175200-1677193200@plantagedok.nl
SUMMARY:Dok Night 𝕭𝖗𝖎𝖓𝖌 𝖞𝖔𝖚𝖗 𝖔𝖜𝖓 𝖒𝖚𝖘𝖎𝖈 𝖒𝖚𝖘𝖎𝖈 𝖓𝖎𝖌𝖍𝖙
DESCRIPTION:19h00\nVegan Food by Suzy Creamcheese\n20h00\nQuestions Collective presents\n𝕭𝖗𝖎𝖓𝖌 𝖞𝖔𝖚𝖗 𝖔𝖜𝖓 𝖒𝖚𝖘𝖎𝖈 𝖒𝖚𝖘𝖎𝖈 𝖓𝖎𝖌𝖍𝖙 \n\nSinging together is so much fun and we hope to make this a habit. Thursday February 23rd we invite everyone to our first 𝕭𝖗𝖎𝖓𝖌 𝖞𝖔𝖚𝖗 𝖔𝖜𝖓 𝖒𝖚𝖘𝖎𝖈 𝖒𝖚𝖘𝖎𝖈 𝖓𝖎𝖌𝖍𝖙 at the Plantage Dok café to sing along. The bar is our stage and everyone is a performer. Everyone and everything is welcome! All musical styles\, all instruments\, all languages. No auditions\, no judgements\, only fun. Send us the song you definitely want to sing and we will print out lyrics and chords so we can play together. Bring an instrument if you have one. There is a piano available. Hope to see you there!
URL:https://plantagedok.nl/event/dok-night-6/
LOCATION:Dokhuis\, Plantage Doklaan 8-12\, Amsterdam\, Netherlands
ATTACH;FMTTYPE=image/jpeg:https://plantagedok.nl/wp-content/uploads/2023/01/PlantageDok_flyer_foto.jpg
END:VEVENT
END:VCALENDAR