BEGIN:VCALENDAR
VERSION:2.0
PRODID:-//Plantage Dok - ECPv6.15.20//NONSGML v1.0//EN
CALSCALE:GREGORIAN
METHOD:PUBLISH
X-WR-CALNAME:Plantage Dok
X-ORIGINAL-URL:https://plantagedok.nl
X-WR-CALDESC:Events for Plantage Dok
REFRESH-INTERVAL;VALUE=DURATION:PT1H
X-Robots-Tag:noindex
X-PUBLISHED-TTL:PT1H
BEGIN:VTIMEZONE
TZID:Europe/Amsterdam
BEGIN:DAYLIGHT
TZOFFSETFROM:+0100
TZOFFSETTO:+0200
TZNAME:CEST
DTSTART:20220327T010000
END:DAYLIGHT
BEGIN:STANDARD
TZOFFSETFROM:+0200
TZOFFSETTO:+0100
TZNAME:CET
DTSTART:20221030T010000
END:STANDARD
BEGIN:DAYLIGHT
TZOFFSETFROM:+0100
TZOFFSETTO:+0200
TZNAME:CEST
DTSTART:20230326T010000
END:DAYLIGHT
BEGIN:STANDARD
TZOFFSETFROM:+0200
TZOFFSETTO:+0100
TZNAME:CET
DTSTART:20231029T010000
END:STANDARD
BEGIN:DAYLIGHT
TZOFFSETFROM:+0100
TZOFFSETTO:+0200
TZNAME:CEST
DTSTART:20240331T010000
END:DAYLIGHT
BEGIN:STANDARD
TZOFFSETFROM:+0200
TZOFFSETTO:+0100
TZNAME:CET
DTSTART:20241027T010000
END:STANDARD
END:VTIMEZONE
BEGIN:VEVENT
DTSTART;TZID=Europe/Amsterdam:20230105T180000
DTEND;TZID=Europe/Amsterdam:20230105T230000
DTSTAMP:20260422T193152
CREATED:20230101T230030Z
LAST-MODIFIED:20230104T174114Z
UID:9367-1672941600-1672959600@plantagedok.nl
SUMMARY:Dok Night - Vegan food en bubbels
DESCRIPTION:🍾🥂\nVegan food & nieuwjaarsbubbels!\n🍾🥂
URL:https://plantagedok.nl/event/dok-night/
LOCATION:Dokhuis\, Plantage Doklaan 8-12\, Amsterdam\, Netherlands
ATTACH;FMTTYPE=image/jpeg:https://plantagedok.nl/wp-content/uploads/2023/01/PlantageDok_flyer_foto.jpg
END:VEVENT
BEGIN:VEVENT
DTSTART;TZID=Europe/Amsterdam:20230112T180000
DTEND;TZID=Europe/Amsterdam:20230112T230000
DTSTAMP:20260422T193152
CREATED:20230101T134444Z
LAST-MODIFIED:20230107T075054Z
UID:9371-1673546400-1673564400@plantagedok.nl
SUMMARY:Dok Night - Vegan Food & Opening expositie Landschapslijnen
DESCRIPTION:OPENING EXPOSITIE LANDSCHAPSLIJNEN\ndubbelexpositie van Annelinde de Jong en Suzanne Glerum\n\nSuzanne Glerum en Annelinde de Jong presenteren tijdens deze dubbelexpositie Landschapslijnen gezamenlijk hun werk in de etalage van woon- werkpand Plantage Dok en in het atelier van Suzanne Glerum.\nSuzanne Glerum toont olieverfschilderen en Annelinde de Jong ruimtelijke papieren objecten. \nZe vinden elkaar in hun omgang met de materie waarmee ze werken\, maar ook hun werkproces toont overeenkomsten. Voor allebei begint het werkproces buiten. Ze trekken eropuit\, het landschap in. Buiten verrichten ze ieder op eigen wijze veldwerk. In het landschap zet Suzanne Glerum de eerste lijnen in haar schetsboek. Niet om het landschap letterlijk weer te geven\, maar om het gevoel van in het landschap zijn te vangen. Annelinde de Jong verzamelt het landschap op een letterlijke manier: op verschillende buitenlocaties verzamelt ze plantaardig materiaal. Terug in het atelier dienen de schetsen als uitgangspunt voor de schilderijen. De plantenverzameling wordt omgevormd tot vellen papier om ruimtelijke objecten mee te bouwen. \nsuzanneglerum.nl | annelindedejong.com \n\n  \nvanaf 19:00\nVegan Food by Chef Lips & Vegan Cake by Miss Whips\n 
URL:https://plantagedok.nl/event/dok-night-2/
LOCATION:Dokhuis\, Plantage Doklaan 8-12\, Amsterdam\, Netherlands
ATTACH;FMTTYPE=image/jpeg:https://plantagedok.nl/wp-content/uploads/2023/01/Landschapslijnen1-def.jpeg
END:VEVENT
BEGIN:VEVENT
DTSTART;TZID=Europe/Amsterdam:20230119T180000
DTEND;TZID=Europe/Amsterdam:20230119T230000
DTSTAMP:20260422T193152
CREATED:20230101T134648Z
LAST-MODIFIED:20230116T074542Z
UID:9373-1674151200-1674169200@plantagedok.nl
SUMMARY:Dok Night - Vegan Food & Symbiopsychotaxicinema MANDABI (1968)
DESCRIPTION:*** \n19:00 Affordable Vegan Food by Suzie Creamcheese\n \n*** \n20:30 Symbiopsychotaxicinema\n \n*** \nSYMBIOPSYCHOTAXICINEMA \nFilms for Those Who Care \nPresented by Jeffrey Badcock \nA series of socially engaged movies\, screened once a month on Thursdays. Touching on such hot topics as immigration\, homelessness\, racism\, education\, radical gender propositions\, the pandemic and gentrification\, these films not only explore visionary politics\, but are also chosen to stir our imagination and creativity. The essence of cinema is the collective experience\, and these screenings are aimed at creating intimate communities again in an increasingly hectic and fragmented world. \n  \n \nMANDABI   1968\n(Money Order)\nDirected by Ousmane Sembène\n92 minutes\nIn Wolof with English subtitles \nOusmane Sembène is a seminal figure in African cinema\, and was also a profound writer. When he arrived in France\, he encountered racism immediately as a worker at a Citroen car factory\, and later on the docks of Marseille. When he was inspired to make movies he tried to get into the film school in Paris which rejected him\, probably for racial reasons\, so he went to study cinema in Moscow instead\, where he was accepted. Directly after making an international splash with his biting debut Black Girl (1966)\, he began working on this movie in his homeland of Senegal. As I mentioned\, he was also a writer\, and here he takes one of his short stories and conjures up this Kafkaesque flick about postcolonial bureaucracy set in West Africa. \nIt follows the story of a Senegalese man who has some cash sent to him from Paris\, which might seem like an easy task\, but in the hands of Sembène it ends up being a wild critique of the modernized world and how money functions in society. But let’s be clear\, although this film is about a nightmare\, it carries with it a breezy sense of humor\, warmth and absurdity—it’s a razor sharp satire\, but with a deep humanitarian edge. \nThis will be a high-definition screening. \nFree screening.
URL:https://plantagedok.nl/event/9373/
LOCATION:Dokzaal & Dokhuis galerie\, Plantage Doklaan 8\, Amsterdam\, 1018CM\, Netherlands
ATTACH;FMTTYPE=image/jpeg:https://plantagedok.nl/wp-content/uploads/2023/01/mandabi.jpeg
END:VEVENT
BEGIN:VEVENT
DTSTART;TZID=Europe/Amsterdam:20230126T180000
DTEND;TZID=Europe/Amsterdam:20230126T230000
DTSTAMP:20260422T193152
CREATED:20230101T135014Z
LAST-MODIFIED:20230122T201212Z
UID:9379-1674756000-1674774000@plantagedok.nl
SUMMARY:Dok Night! Reading group - The role of gas in industrial agriculture & MOLK Night!
DESCRIPTION:  \n17:30 Aseed presents\nReading group – The role of gas in industrial agriculture \n\nWe are reviving our ASEED Reading Group! Let’s grow our brains together as we discuss hot topics in our Fossil Free Agriculture Campaign. We are ready to get cozy and dive deep into the first of four reading group topics\, and we need your help to foster a rich co-learning environment!  \n\n\n\n\nFor this session\, we will focus on the role of gas in industrial agriculture. How many fossil fuels are actually in our food? How does this industry continue to grow under the radar? Together we investigate how fossil fuels\, and increasingly gas\, are deeply engrained in the food system. We will provide a list of materials in different formats to prepare for the meeting\, such as articles\, information videos\, zines\, podcasts\, etc.\, so you can engage with the topic according to your capacity and interests. To help us create an interesting discussion and learn about these topics together\, we will aim to include someone outside of ASEED with particular knowledge on the given topic. This week we will have a guest from the Gastivists.\n\n\nSend an email to info@aseed.net to let us know you would like to attend this first reading group session so we can send you a list of recommended materials to browse. There are no requirements to attend\, we just want to provide the opportunity to learn about these important topics together!\n\n\n*** \n19:00 Affordable Vegan Food by Suzie Creamcheese\n*** \n\n\n20:00 MOLK Night! in the Dokzaal (contribution € 10)\nCome listen\, hang\, lay down and journey in this monthly sonic happening.\n\n RUISVOGEL\nRuisvogel is the ambient solo project of Rotterdam-based guitarist/vocalist Daanie van den IJssel (Neighbours Burning Neighbours\, Volca Nova).\nRuisvogel creates compelling noisy drones and experimental lush soundscapes. They use DIY tapeloops\, old tascams\, walkmans\, synthesizers and samples.\n\n PABLO DIAS\n“The Gold Fish Club”\nAn audiovisual improvisation setup by Pablo Dias. It’s a laboratory where audio and video devices\, new and old\, professional and amateur\, are recombined live in order to generate images and sounds.\nPablo is interested in how these machines work as objects — their materiality\, the physicality of their low-resolution signals\, how they can be arranged in space\, how they invite certain physical interaction.\nAlso he is fascinated by their expressiveness – how these dated and ‘limited’ technologies can produce images and sounds that are often more intriguing to our eyes and ears than the latest pristine technologies and almost infinite resolutions.\n\n DJ Superinca\naka Ibelisse Guardia Ferragutti melts\, melds and calls upon her roots system\, to spin some hot songs. From Latin American experimental to dirty beats\, her goal is to sonically collide embodiment and pleasure. Shake the dust off!\n\n\nThe exhibition Landschapslijnen is on display till February 2nd 2023.
URL:https://plantagedok.nl/event/dok-night-3/
LOCATION:Dokhuis\, Plantage Doklaan 8-12\, Amsterdam\, Netherlands
ATTACH;FMTTYPE=image/jpeg:https://plantagedok.nl/wp-content/uploads/2023/01/PlantageDok_flyer_foto.jpg
END:VEVENT
BEGIN:VEVENT
DTSTART;TZID=Europe/Amsterdam:20230126T200000
DTEND;TZID=Europe/Amsterdam:20230126T233000
DTSTAMP:20260422T193152
CREATED:20230123T174435Z
LAST-MODIFIED:20230123T174531Z
UID:9462-1674763200-1674775800@plantagedok.nl
SUMMARY:MOLK NIGHT: Ruisvogel / Pablo Dias / DJ Superinca
DESCRIPTION:On the 26th of January\, the MOLK FACTORY is happy to present these artists: \n \nRUISVOGEL\nRuisvogel is the ambient solo project of Rotterdam-based guitarist/vocalist Daanie van den IJssel (Neighbours Burning Neighbours\, Volca Nova).\nRuisvogel creates compelling noisy drones and experimental lush soundscapes. They use DIY tapeloops\, old tascams\, walkmans\, synthesizers and samples.\n\nPABLO DIAS\n“The Gold Fish Club”\nAn audiovisual-spatial improvisation laboratory by Pablo Dias where audio and video devices\, new and old\, professional and amateur\, are recombined live in order to generate images and sounds.\n\nPablo is interested in how these machines work as objects — their materiality\, the physicality of their low-resolution signals\, how they can be arranged in space\, how they invite certain physical interaction. \n\nDJ Superinca\naka Ibelisse Guardia Ferragutti melts\, melds and calls upon her roots system\, to spin some hot songs. From Latin American experimental to dirty beats\, her goal is to sonically collide embodiment and pleasure. Shake the dust off!\n// \nMolk nights is a monthly event\, organised by artists and members of the MOLK Factory. For these nights MOLK collective aims to host space for listening\, sharing and celebrating community. We invite a range of various sound artists\, conceptual concerts\, noise in all forms and are kin to embrace hybrid aspects of performative and visual outputs.
URL:https://plantagedok.nl/event/molk-night-ruisvogel-pablo-dias-dj-superinca/
LOCATION:Dokzaal
ATTACH;FMTTYPE=image/jpeg:https://plantagedok.nl/wp-content/uploads/2023/01/poster.jpeg
END:VEVENT
END:VCALENDAR