BEGIN:VCALENDAR
VERSION:2.0
PRODID:-//Plantage Dok - ECPv6.15.20//NONSGML v1.0//EN
CALSCALE:GREGORIAN
METHOD:PUBLISH
X-ORIGINAL-URL:https://plantagedok.nl
X-WR-CALDESC:Events for Plantage Dok
REFRESH-INTERVAL;VALUE=DURATION:PT1H
X-Robots-Tag:noindex
X-PUBLISHED-TTL:PT1H
BEGIN:VTIMEZONE
TZID:Europe/Amsterdam
BEGIN:DAYLIGHT
TZOFFSETFROM:+0100
TZOFFSETTO:+0200
TZNAME:CEST
DTSTART:20210328T010000
END:DAYLIGHT
BEGIN:STANDARD
TZOFFSETFROM:+0200
TZOFFSETTO:+0100
TZNAME:CET
DTSTART:20211031T010000
END:STANDARD
BEGIN:DAYLIGHT
TZOFFSETFROM:+0100
TZOFFSETTO:+0200
TZNAME:CEST
DTSTART:20220327T010000
END:DAYLIGHT
BEGIN:STANDARD
TZOFFSETFROM:+0200
TZOFFSETTO:+0100
TZNAME:CET
DTSTART:20221030T010000
END:STANDARD
BEGIN:DAYLIGHT
TZOFFSETFROM:+0100
TZOFFSETTO:+0200
TZNAME:CEST
DTSTART:20230326T010000
END:DAYLIGHT
BEGIN:STANDARD
TZOFFSETFROM:+0200
TZOFFSETTO:+0100
TZNAME:CET
DTSTART:20231029T010000
END:STANDARD
END:VTIMEZONE
BEGIN:VEVENT
DTSTART;TZID=Europe/Amsterdam:20221102T183000
DTEND;TZID=Europe/Amsterdam:20221102T200000
DTSTAMP:20260422T225729
CREATED:20221029T184218Z
LAST-MODIFIED:20221029T184218Z
UID:9280-1667413800-1667419200@plantagedok.nl
SUMMARY:Taste before you waste – Wasteless Wednesday
DESCRIPTION:Taste before you waste – Wasteless Wednesday\n\nAs always\, dinner is a donation-based 100% vegan feast created from zero waste ingredients salvaged from nearby Amsterdam food stores. \n\nDoors open at 18:30 and we are operating on a first come\, first served basis.
URL:https://plantagedok.nl/event/taste-before-you-waste-wasteless-wednesday-12/
LOCATION:Dokhuis\, Plantage Doklaan 8-12\, Amsterdam\, Netherlands
ATTACH;FMTTYPE=image/webp:https://plantagedok.nl/wp-content/uploads/2022/10/WastelessDinner_TBYW.webp
END:VEVENT
BEGIN:VEVENT
DTSTART;TZID=Europe/Amsterdam:20221103T180000
DTEND;TZID=Europe/Amsterdam:20221103T230000
DTSTAMP:20260422T225730
CREATED:20221029T173557Z
LAST-MODIFIED:20221103T081453Z
UID:9255-1667498400-1667516400@plantagedok.nl
SUMMARY:NO Dokhuis Night\, sorry
DESCRIPTION:Dokhuis Night = cancelled
URL:https://plantagedok.nl/event/no-dokhuis-night-sorry/
LOCATION:Dokhuis\, Plantage Doklaan 8-12\, Amsterdam\, Netherlands
END:VEVENT
BEGIN:VEVENT
DTSTART;TZID=Europe/Amsterdam:20221104T170000
DTEND;TZID=Europe/Amsterdam:20221104T220000
DTSTAMP:20260422T225730
CREATED:20221025T113918Z
LAST-MODIFIED:20221025T114248Z
UID:9237-1667581200-1667599200@plantagedok.nl
SUMMARY:The Day of All Souls - day 1
DESCRIPTION:Celebrate in solidarity! All proceeds go to –Heart of the World– \nDoor open at 17:00\, Dinners served at 18:00 \nGemeente A’dam Oost. \n 
URL:https://plantagedok.nl/event/the-day-of-all-souls/
LOCATION:Dokhuis
ATTACH;FMTTYPE=image/jpeg:https://plantagedok.nl/wp-content/uploads/2022/10/WhatsApp-Image-2022-10-10-at-5.23.52-PM.jpeg
END:VEVENT
BEGIN:VEVENT
DTSTART;TZID=Europe/Amsterdam:20221105T170000
DTEND;TZID=Europe/Amsterdam:20221105T220000
DTSTAMP:20260422T225730
CREATED:20221025T114122Z
LAST-MODIFIED:20221025T114122Z
UID:9241-1667667600-1667685600@plantagedok.nl
SUMMARY:The Day of All Souls – day 2
DESCRIPTION:Celebrate in solidarity! All proceeds go to –Heart of the World– \nDoor open at 17:00\, Dinners served at 18:00 \nGemeente A’dam Oost.
URL:https://plantagedok.nl/event/the-day-of-all-souls-day-2/
LOCATION:Dokhuis
ATTACH;FMTTYPE=image/jpeg:https://plantagedok.nl/wp-content/uploads/2022/10/WhatsApp-Image-2022-10-10-at-5.23.52-PM.jpeg
END:VEVENT
BEGIN:VEVENT
DTSTART;TZID=Europe/Amsterdam:20221109T183000
DTEND;TZID=Europe/Amsterdam:20221109T200000
DTSTAMP:20260422T225730
CREATED:20221029T184341Z
LAST-MODIFIED:20221029T184701Z
UID:9283-1668018600-1668024000@plantagedok.nl
SUMMARY:Taste before you waste – Wasteless Wednesday
DESCRIPTION:Taste before you waste – Wasteless Wednesday\n\nAs always\, dinner is a donation-based 100% vegan feast created from zero waste ingredients salvaged from nearby Amsterdam food stores. \n\nDoors open at 18:30 and we are operating on a first come\, first served basis.
URL:https://plantagedok.nl/event/taste-before-you-waste-wasteless-wednesday-13/
LOCATION:Dokhuis\, Plantage Doklaan 8-12\, Amsterdam\, Netherlands
ATTACH;FMTTYPE=image/webp:https://plantagedok.nl/wp-content/uploads/2022/10/WastelessDinner_TBYW.webp
END:VEVENT
BEGIN:VEVENT
DTSTART;TZID=Europe/Amsterdam:20221110T180000
DTEND;TZID=Europe/Amsterdam:20221110T230000
DTSTAMP:20260422T225730
CREATED:20221029T173814Z
LAST-MODIFIED:20221110T104834Z
UID:9259-1668103200-1668121200@plantagedok.nl
SUMMARY:sorry NO Dokhuis NIGHT
DESCRIPTION:we’re working on it; to maintain this regular diner/culture night! \nbut unfortunately not open today
URL:https://plantagedok.nl/event/dokhuis-night-20/
LOCATION:Dokhuis\, Plantage Doklaan 8-12\, Amsterdam\, Netherlands
END:VEVENT
BEGIN:VEVENT
DTSTART;TZID=Europe/Amsterdam:20221116T183000
DTEND;TZID=Europe/Amsterdam:20221116T200000
DTSTAMP:20260422T225730
CREATED:20221029T184517Z
LAST-MODIFIED:20221029T184517Z
UID:9285-1668623400-1668628800@plantagedok.nl
SUMMARY:Taste before you waste – Wasteless Wednesday
DESCRIPTION:Taste before you waste – Wasteless Wednesday\n\nAs always\, dinner is a donation-based 100% vegan feast created from zero waste ingredients salvaged from nearby Amsterdam food stores. \n\nDoors open at 18:30 and we are operating on a first come\, first served basis.
URL:https://plantagedok.nl/event/taste-before-you-waste-wasteless-wednesday-14/
LOCATION:Dokhuis\, Plantage Doklaan 8-12\, Amsterdam\, Netherlands
ATTACH;FMTTYPE=image/webp:https://plantagedok.nl/wp-content/uploads/2022/10/WastelessDinner_TBYW.webp
END:VEVENT
BEGIN:VEVENT
DTSTART;TZID=Europe/Amsterdam:20221117T180000
DTEND;TZID=Europe/Amsterdam:20221117T230000
DTSTAMP:20260422T225730
CREATED:20221029T174123Z
LAST-MODIFIED:20221029T174522Z
UID:9261-1668708000-1668726000@plantagedok.nl
SUMMARY:Dokhuis NIGHT - Vegan Food & Symbiopsychotaxicinema
DESCRIPTION:***\n19:00 Vegan food\n20:30 A symbiopsychotaxicinema Film\n*** \nSYMBIOPSYCHOTAXICINEMA \n\nFilms for Those Who Care\n\nPresented by Jeffrey Badcock \n\n\nA series of socially engaged movies\, screened once a month on Thursdays. Touching on such hot topics as immigration\, homelessness\, racism\, education\, radical gender propositions\, the pandemic and gentrification\, these films not only explore visionary politics\, but are also chosen to stir our imagination and creativity. The essence of cinema is the collective experience\, and these screenings are aimed at creating intimate communities again in an increasingly hectic and fragmented world. \n\n\n(…more info about the movie coming soon…)
URL:https://plantagedok.nl/event/dokhuis-night-21/
LOCATION:Dokhuis\, Plantage Doklaan 8-12\, Amsterdam\, Netherlands
END:VEVENT
BEGIN:VEVENT
DTSTART;TZID=Europe/Amsterdam:20221123T183000
DTEND;TZID=Europe/Amsterdam:20221123T200000
DTSTAMP:20260422T225730
CREATED:20221029T184633Z
LAST-MODIFIED:20221029T184633Z
UID:9287-1669228200-1669233600@plantagedok.nl
SUMMARY:Taste before you waste – Wasteless Wednesday
DESCRIPTION:Taste before you waste – Wasteless Wednesday\n\nAs always\, dinner is a donation-based 100% vegan feast created from zero waste ingredients salvaged from nearby Amsterdam food stores. \n\nDoors open at 18:30 and we are operating on a first come\, first served basis.
URL:https://plantagedok.nl/event/taste-before-you-waste-wasteless-wednesday-15/
LOCATION:Dokhuis\, Plantage Doklaan 8-12\, Amsterdam\, Netherlands
ATTACH;FMTTYPE=image/webp:https://plantagedok.nl/wp-content/uploads/2022/10/WastelessDinner_TBYW.webp
END:VEVENT
BEGIN:VEVENT
DTSTART;TZID=Europe/Amsterdam:20221124T180000
DTEND;TZID=Europe/Amsterdam:20221124T230000
DTSTAMP:20260422T225730
CREATED:20221029T174823Z
LAST-MODIFIED:20221122T130737Z
UID:9266-1669312800-1669330800@plantagedok.nl
SUMMARY:Dokhuis NIGHT - Benefiet Watch the Med / Alarm Phone
DESCRIPTION:Every Thursday night = Dokhuis Night \n“Freedom of Movement for All” \n \n19h Dinner – Ethiopian Injera \n21h short presentation on the work of Alarmphone.org \nwww.alarmphone.org
URL:https://plantagedok.nl/event/dokhuis-night-22/
LOCATION:Dokhuis\, Plantage Doklaan 8-12\, Amsterdam\, Netherlands
ATTACH;FMTTYPE=image/jpeg:https://plantagedok.nl/wp-content/uploads/2022/10/AP-benefiet-nov-2022.jpeg
END:VEVENT
BEGIN:VEVENT
DTSTART;TZID=Europe/Amsterdam:20221125T203000
DTEND;TZID=Europe/Amsterdam:20221125T220000
DTSTAMP:20260422T225730
CREATED:20221029T181616Z
LAST-MODIFIED:20221029T181616Z
UID:9268-1669408200-1669413600@plantagedok.nl
SUMMARY:De Warme Winkel speelt Lady Chatterley’s Lover
DESCRIPTION:Lady Chatterley’s Lover\n\n\n\n\n\n\nIn de beruchte en grensverleggende roman Lady Chatterley’s Lover (1928) van D.H. Lawrence valt de adellijke Constance Chatterley halsoverkop voor de brute charmes van boswachter Oliver Mellors. Vanwege de opwindende inhoud veroorzaakte de roman een groot schandaal en was het lange tijd verboden in Engeland en ver daarbuiten. In het geniep werd het boek decennia van hand op hand doorgegeven. \nHoewel Lawrence toen vooral werd gezien als provocateur\, was dat allerminst zijn bedoeling. Hij voelde heilig vuur om eerlijk te spreken over seks en seksuele voorkeur. Hij wilde nieuwe rolmodellen creëren en zette zijn lezers aan in het reine te komen met kanten van onszelf die we het liefst aan het daglicht onttrekken. \nHouvast zoekend in het verleden\, van henzelf en van het begin 20e-eeuwse Engeland\, gaan Florian Myjer en Lisa Verbelen de dans aan met deze schandaalroman. Vol overgave omarmen ze hun seks en hun driften. Schaamteloos wentelen ze zich in perversie en genot en nemen Lady Chatterley’s Lover een beetje ruig en een beetje teder mee naar de 21e eeuw. \n\n\n\n\n\n\n*** \nDe Warme Winkel is een collectief dat graag op het scherpst van de maatschappelijke en artistieke snede opereert. Geschiedenis en literatuur zijn vaak inspiratie voor voorstellingen die hun pijlen op het heden richten en de bedenkers zijn nadrukkelijk op het toneel aanwezig. Na een steeds intensievere samenwerking is Florian Myjer op 1 januari 2021 toegetreden tot de artistieke kern van dit illustere gezelschap. Lady Chatterley’s Lover is zijn eerste voorstelling in die hoedanigheid en hij schreef deze samen met Marieke de Zwaan en Lisa Verbelen. \n  \nMeer informatie en kaartverkoop: dewarmewinkel.nl/
URL:https://plantagedok.nl/event/de-warme-winkel-speelt-lady-chatterleys-lover/
LOCATION:Dokzaal
ATTACH;FMTTYPE=image/png:https://plantagedok.nl/wp-content/uploads/2022/10/ww.png
END:VEVENT
BEGIN:VEVENT
DTSTART;TZID=Europe/Amsterdam:20221126T203000
DTEND;TZID=Europe/Amsterdam:20221126T220000
DTSTAMP:20260422T225730
CREATED:20221029T181854Z
LAST-MODIFIED:20221029T181854Z
UID:9271-1669494600-1669500000@plantagedok.nl
SUMMARY:De Warme Winkel speelt Lady Chatterley’s Lover
DESCRIPTION:Lady Chatterley’s Lover\n\n\n\n\n\n\nIn de beruchte en grensverleggende roman Lady Chatterley’s Lover (1928) van D.H. Lawrence valt de adellijke Constance Chatterley halsoverkop voor de brute charmes van boswachter Oliver Mellors. Vanwege de opwindende inhoud veroorzaakte de roman een groot schandaal en was het lange tijd verboden in Engeland en ver daarbuiten. In het geniep werd het boek decennia van hand op hand doorgegeven. \nHoewel Lawrence toen vooral werd gezien als provocateur\, was dat allerminst zijn bedoeling. Hij voelde heilig vuur om eerlijk te spreken over seks en seksuele voorkeur. Hij wilde nieuwe rolmodellen creëren en zette zijn lezers aan in het reine te komen met kanten van onszelf die we het liefst aan het daglicht onttrekken. \nHouvast zoekend in het verleden\, van henzelf en van het begin 20e-eeuwse Engeland\, gaan Florian Myjer en Lisa Verbelen de dans aan met deze schandaalroman. Vol overgave omarmen ze hun seks en hun driften. Schaamteloos wentelen ze zich in perversie en genot en nemen Lady Chatterley’s Lover een beetje ruig en een beetje teder mee naar de 21e eeuw. \n\n\n\n\n\n\n*** \nDe Warme Winkel is een collectief dat graag op het scherpst van de maatschappelijke en artistieke snede opereert. Geschiedenis en literatuur zijn vaak inspiratie voor voorstellingen die hun pijlen op het heden richten en de bedenkers zijn nadrukkelijk op het toneel aanwezig. Na een steeds intensievere samenwerking is Florian Myjer op 1 januari 2021 toegetreden tot de artistieke kern van dit illustere gezelschap. Lady Chatterley’s Lover is zijn eerste voorstelling in die hoedanigheid en hij schreef deze samen met Marieke de Zwaan en Lisa Verbelen. \n  \nMeer informatie en kaartverkoop: dewarmewinkel.nl/
URL:https://plantagedok.nl/event/de-warme-winkel-speelt-lady-chatterleys-lover-2/
LOCATION:Dokzaal
ATTACH;FMTTYPE=image/png:https://plantagedok.nl/wp-content/uploads/2022/10/ww.png
END:VEVENT
BEGIN:VEVENT
DTSTART;TZID=Europe/Amsterdam:20221127T203000
DTEND;TZID=Europe/Amsterdam:20221127T220000
DTSTAMP:20260422T225730
CREATED:20221029T182618Z
LAST-MODIFIED:20221029T182718Z
UID:9273-1669581000-1669586400@plantagedok.nl
SUMMARY:De Warme Winkel speelt Lady Chatterley’s Lover
DESCRIPTION:Lady Chatterley’s Lover\n\n\n\n\n\n\nIn de beruchte en grensverleggende roman Lady Chatterley’s Lover (1928) van D.H. Lawrence valt de adellijke Constance Chatterley halsoverkop voor de brute charmes van boswachter Oliver Mellors. Vanwege de opwindende inhoud veroorzaakte de roman een groot schandaal en was het lange tijd verboden in Engeland en ver daarbuiten. In het geniep werd het boek decennia van hand op hand doorgegeven. \nHoewel Lawrence toen vooral werd gezien als provocateur\, was dat allerminst zijn bedoeling. Hij voelde heilig vuur om eerlijk te spreken over seks en seksuele voorkeur. Hij wilde nieuwe rolmodellen creëren en zette zijn lezers aan in het reine te komen met kanten van onszelf die we het liefst aan het daglicht onttrekken. \nHouvast zoekend in het verleden\, van henzelf en van het begin 20e-eeuwse Engeland\, gaan Florian Myjer en Lisa Verbelen de dans aan met deze schandaalroman. Vol overgave omarmen ze hun seks en hun driften. Schaamteloos wentelen ze zich in perversie en genot en nemen Lady Chatterley’s Lover een beetje ruig en een beetje teder mee naar de 21e eeuw. \n\n\n\n\n\n\n*** \nDe Warme Winkel is een collectief dat graag op het scherpst van de maatschappelijke en artistieke snede opereert. Geschiedenis en literatuur zijn vaak inspiratie voor voorstellingen die hun pijlen op het heden richten en de bedenkers zijn nadrukkelijk op het toneel aanwezig. Na een steeds intensievere samenwerking is Florian Myjer op 1 januari 2021 toegetreden tot de artistieke kern van dit illustere gezelschap. Lady Chatterley’s Lover is zijn eerste voorstelling in die hoedanigheid en hij schreef deze samen met Marieke de Zwaan en Lisa Verbelen. \n  \nMeer informatie en kaartverkoop: dewarmewinkel.nl/
URL:https://plantagedok.nl/event/de-warme-winkel-speelt-lady-chatterleys-lover-3/
LOCATION:Dokzaal
ATTACH;FMTTYPE=image/png:https://plantagedok.nl/wp-content/uploads/2022/10/ww.png
END:VEVENT
BEGIN:VEVENT
DTSTART;TZID=Europe/Amsterdam:20221128T203000
DTEND;TZID=Europe/Amsterdam:20221128T220000
DTSTAMP:20260422T225730
CREATED:20221029T183400Z
LAST-MODIFIED:20221029T183400Z
UID:9275-1669667400-1669672800@plantagedok.nl
SUMMARY:De Warme Winkel speelt Lady Chatterley’s Lover
DESCRIPTION:Lady Chatterley’s Lover\n\n\n\n\n\n\nIn de beruchte en grensverleggende roman Lady Chatterley’s Lover (1928) van D.H. Lawrence valt de adellijke Constance Chatterley halsoverkop voor de brute charmes van boswachter Oliver Mellors. Vanwege de opwindende inhoud veroorzaakte de roman een groot schandaal en was het lange tijd verboden in Engeland en ver daarbuiten. In het geniep werd het boek decennia van hand op hand doorgegeven. \nHoewel Lawrence toen vooral werd gezien als provocateur\, was dat allerminst zijn bedoeling. Hij voelde heilig vuur om eerlijk te spreken over seks en seksuele voorkeur. Hij wilde nieuwe rolmodellen creëren en zette zijn lezers aan in het reine te komen met kanten van onszelf die we het liefst aan het daglicht onttrekken. \nHouvast zoekend in het verleden\, van henzelf en van het begin 20e-eeuwse Engeland\, gaan Florian Myjer en Lisa Verbelen de dans aan met deze schandaalroman. Vol overgave omarmen ze hun seks en hun driften. Schaamteloos wentelen ze zich in perversie en genot en nemen Lady Chatterley’s Lover een beetje ruig en een beetje teder mee naar de 21e eeuw. \n\n\n\n\n\n\n*** \nDe Warme Winkel is een collectief dat graag op het scherpst van de maatschappelijke en artistieke snede opereert. Geschiedenis en literatuur zijn vaak inspiratie voor voorstellingen die hun pijlen op het heden richten en de bedenkers zijn nadrukkelijk op het toneel aanwezig. Na een steeds intensievere samenwerking is Florian Myjer op 1 januari 2021 toegetreden tot de artistieke kern van dit illustere gezelschap. Lady Chatterley’s Lover is zijn eerste voorstelling in die hoedanigheid en hij schreef deze samen met Marieke de Zwaan en Lisa Verbelen. \n  \nMeer informatie en kaartverkoop: dewarmewinkel.nl/
URL:https://plantagedok.nl/event/de-warme-winkel-speelt-lady-chatterleys-lover-4/
LOCATION:Dokzaal
ATTACH;FMTTYPE=image/png:https://plantagedok.nl/wp-content/uploads/2022/10/ww.png
END:VEVENT
BEGIN:VEVENT
DTSTART;TZID=Europe/Amsterdam:20221129T203000
DTEND;TZID=Europe/Amsterdam:20221129T220000
DTSTAMP:20260422T225730
CREATED:20221029T183558Z
LAST-MODIFIED:20221029T183636Z
UID:9277-1669753800-1669759200@plantagedok.nl
SUMMARY:De Warme Winkel speelt Lady Chatterley’s Lover
DESCRIPTION:Lady Chatterley’s Lover\n\n\n\n\n\n\nIn de beruchte en grensverleggende roman Lady Chatterley’s Lover (1928) van D.H. Lawrence valt de adellijke Constance Chatterley halsoverkop voor de brute charmes van boswachter Oliver Mellors. Vanwege de opwindende inhoud veroorzaakte de roman een groot schandaal en was het lange tijd verboden in Engeland en ver daarbuiten. In het geniep werd het boek decennia van hand op hand doorgegeven. \nHoewel Lawrence toen vooral werd gezien als provocateur\, was dat allerminst zijn bedoeling. Hij voelde heilig vuur om eerlijk te spreken over seks en seksuele voorkeur. Hij wilde nieuwe rolmodellen creëren en zette zijn lezers aan in het reine te komen met kanten van onszelf die we het liefst aan het daglicht onttrekken. \nHouvast zoekend in het verleden\, van henzelf en van het begin 20e-eeuwse Engeland\, gaan Florian Myjer en Lisa Verbelen de dans aan met deze schandaalroman. Vol overgave omarmen ze hun seks en hun driften. Schaamteloos wentelen ze zich in perversie en genot en nemen Lady Chatterley’s Lover een beetje ruig en een beetje teder mee naar de 21e eeuw. \n\n\n\n\n\n\n*** \nDe Warme Winkel is een collectief dat graag op het scherpst van de maatschappelijke en artistieke snede opereert. Geschiedenis en literatuur zijn vaak inspiratie voor voorstellingen die hun pijlen op het heden richten en de bedenkers zijn nadrukkelijk op het toneel aanwezig. Na een steeds intensievere samenwerking is Florian Myjer op 1 januari 2021 toegetreden tot de artistieke kern van dit illustere gezelschap. Lady Chatterley’s Lover is zijn eerste voorstelling in die hoedanigheid en hij schreef deze samen met Marieke de Zwaan en Lisa Verbelen. \n  \nMeer informatie en kaartverkoop: dewarmewinkel.nl/
URL:https://plantagedok.nl/event/9277/
LOCATION:Dokzaal
ATTACH;FMTTYPE=image/png:https://plantagedok.nl/wp-content/uploads/2022/10/ww.png
END:VEVENT
BEGIN:VEVENT
DTSTART;TZID=Europe/Amsterdam:20221130T183000
DTEND;TZID=Europe/Amsterdam:20221130T200000
DTSTAMP:20260422T225730
CREATED:20221029T185152Z
LAST-MODIFIED:20221029T185152Z
UID:9289-1669833000-1669838400@plantagedok.nl
SUMMARY:Taste before you waste – Wasteless Wednesday
DESCRIPTION:Taste before you waste – Wasteless Wednesday\n\nAs always\, dinner is a donation-based 100% vegan feast created from zero waste ingredients salvaged from nearby Amsterdam food stores. \n\nDoors open at 18:30 and we are operating on a first come\, first served basis.
URL:https://plantagedok.nl/event/taste-before-you-waste-wasteless-wednesday-16/
LOCATION:Dokhuis\, Plantage Doklaan 8-12\, Amsterdam\, Netherlands
ATTACH;FMTTYPE=image/webp:https://plantagedok.nl/wp-content/uploads/2022/10/WastelessDinner_TBYW.webp
END:VEVENT
END:VCALENDAR