BEGIN:VCALENDAR
VERSION:2.0
PRODID:-//Plantage Dok - ECPv6.15.20//NONSGML v1.0//EN
CALSCALE:GREGORIAN
METHOD:PUBLISH
X-WR-CALNAME:Plantage Dok
X-ORIGINAL-URL:https://plantagedok.nl
X-WR-CALDESC:Events for Plantage Dok
REFRESH-INTERVAL;VALUE=DURATION:PT1H
X-Robots-Tag:noindex
X-PUBLISHED-TTL:PT1H
BEGIN:VTIMEZONE
TZID:Europe/Amsterdam
BEGIN:DAYLIGHT
TZOFFSETFROM:+0100
TZOFFSETTO:+0200
TZNAME:CEST
DTSTART:20210328T010000
END:DAYLIGHT
BEGIN:STANDARD
TZOFFSETFROM:+0200
TZOFFSETTO:+0100
TZNAME:CET
DTSTART:20211031T010000
END:STANDARD
BEGIN:DAYLIGHT
TZOFFSETFROM:+0100
TZOFFSETTO:+0200
TZNAME:CEST
DTSTART:20220327T010000
END:DAYLIGHT
BEGIN:STANDARD
TZOFFSETFROM:+0200
TZOFFSETTO:+0100
TZNAME:CET
DTSTART:20221030T010000
END:STANDARD
BEGIN:DAYLIGHT
TZOFFSETFROM:+0100
TZOFFSETTO:+0200
TZNAME:CEST
DTSTART:20230326T010000
END:DAYLIGHT
BEGIN:STANDARD
TZOFFSETFROM:+0200
TZOFFSETTO:+0100
TZNAME:CET
DTSTART:20231029T010000
END:STANDARD
END:VTIMEZONE
BEGIN:VEVENT
DTSTART;TZID=Europe/Amsterdam:20220601T183000
DTEND;TZID=Europe/Amsterdam:20220601T213000
DTSTAMP:20260423T063503
CREATED:20220501T144818Z
LAST-MODIFIED:20220501T144818Z
UID:8958-1654108200-1654119000@plantagedok.nl
SUMMARY:Taste before you waste – Wasteless Wednesday
DESCRIPTION:Taste before you waste – Wasteless Wednesday\n\nAs always\, dinner is a donation-based 100% vegan feast created from zero waste ingredients salvaged from nearby Amsterdam food stores. \n\nDoors open at 18:30 and we are operating on a first come\, first served basis.
URL:https://plantagedok.nl/event/taste-before-you-waste-wasteless-wednesday-11/
LOCATION:Dokhuis
END:VEVENT
BEGIN:VEVENT
DTSTART;TZID=Europe/Amsterdam:20220602T180000
DTEND;TZID=Europe/Amsterdam:20220602T230000
DTSTAMP:20260423T063503
CREATED:20220501T143200Z
LAST-MODIFIED:20220523T192442Z
UID:8947-1654192800-1654210800@plantagedok.nl
SUMMARY:Dokhuis Night.    'Wat is dit?'
DESCRIPTION:Evening WAT IS DIT?\nWhat if Amsterdam was an island or an independent republic?\nFirst of a series of evenings about alternative ways of thinking.\nWith: [Probably] Natascha Hagenbeek [Commons Project]\, Dioni Klute\, Eva Schippers\, Graeme Walker \n+ Vegan diner & cake
URL:https://plantagedok.nl/event/dokhuis-night-16/
LOCATION:Dokhuis
ATTACH;FMTTYPE=image/jpeg:https://plantagedok.nl/wp-content/uploads/2022/05/WAT2.jpeg
END:VEVENT
BEGIN:VEVENT
DTSTART;VALUE=DATE:20220608
DTEND;VALUE=DATE:20220620
DTSTAMP:20260423T063503
CREATED:20220405T124815Z
LAST-MODIFIED:20220405T124815Z
UID:8763-1654646400-1655683199@plantagedok.nl
SUMMARY:FIBER Festival Exhibition: Mutation (Part II)
DESCRIPTION:With the theme Mutation (Part II)\, FIBER Festival continues its investigation into the (in)ability of humankind to adapt to fundamental transformations in its living environment. What does the future of humanity look like under the influence of a radically changing earth and the inseparable adaptations of its modern society? Are we\, forced by global warming and planetary-wide technological demands\, able to steer towards a new post-human world: one in which man is no longer the centre of reality? \nOver the course of 1.5 weeks\, FIBER takes you on an audiovisual journey at Dokzaal in Amsterdam-Oost. Wander from the mundane into our Exhibition with a dozen of works from both established and emerging artists. \nTickets for FIBER Festival 2022 go on sale on Tuesday 5 April at 10:00 (CEST).
URL:https://plantagedok.nl/event/fiber-festival-exhibition-mutation-part-ii/
LOCATION:Dokzaal
ATTACH;FMTTYPE=image/jpeg:https://plantagedok.nl/wp-content/uploads/https://images.squarespace-cdn.com/content/v1/622f2058c102b83342eaca54/1b8bab93-0677-4de7-af11-0dab8502f5cf/FEST17_Prima+Materia_TerraEconomics_1_JessicaDreu.jpg
END:VEVENT
BEGIN:VEVENT
DTSTART;TZID=Europe/Amsterdam:20220609T180000
DTEND;TZID=Europe/Amsterdam:20220609T230000
DTSTAMP:20260423T063503
CREATED:20220521T073446Z
LAST-MODIFIED:20220528T192658Z
UID:8999-1654797600-1654815600@plantagedok.nl
SUMMARY:Dokhuis Night | Ceramists LIVE and DJ Mappe
DESCRIPTION:Dokhuis NIGHT\nDokhuis galerie presents: \nBand: CERAMISTS\nCeramists are are a garage punk band based in Amsterdam East playing groovy punk songs. Debut album was released in 2019\, and out on cassette. Second album Bambi Eyes out now! \nCeramists have some history at Dokhuis : they played there since the band started in 2019.\nDuring Covid they made their second album BAMBI EYES playing several times on the most peculiar occasions. \nLast seen in Cinetol last april they bring a most energetic songs and sounds to make you dance and enjoy : Let the ants take over! \nCheck out on bandcamp: https://ceramists.bandcamp.com/ \nBrand new video\, Pas de Problem\, out now!\n \nAnd another video–Suburbia:\n \nDancefloor: DJ Mappe rocking the night away with the best vinyl \n+ Vegan Maaltijd 19:00 by Earthallujah\n+ Vegan Cakes by Miss Whips  \nSee you on Thursday!
URL:https://plantagedok.nl/event/dokhuis-night-ceramists-live-and-dj-mappe/
ATTACH;FMTTYPE=image/jpeg:https://plantagedok.nl/wp-content/uploads/2022/05/ceradok9-6-scaled.jpg
END:VEVENT
BEGIN:VEVENT
DTSTART;TZID=Europe/Amsterdam:20220616T180000
DTEND;TZID=Europe/Amsterdam:20220616T230000
DTSTAMP:20260423T063503
CREATED:20220613T093256Z
LAST-MODIFIED:20220613T093256Z
UID:9032-1655402400-1655420400@plantagedok.nl
SUMMARY:Dokhuis Food & Cinema Night
DESCRIPTION:Eten & Cinema de Jean-Pierre Jeunet\nCity of lost Children\nExpositie: Het Jaar van de Kever – Fraublank\nDiner 18:00\nCinema starts 20:30\nVegan Maaltijd by Chef Lips € 10\,-\nVegan Cakes by Miss Whips € 3\,-
URL:https://plantagedok.nl/event/dokhuis-food-cinema-night/
ATTACH;FMTTYPE=image/png:https://plantagedok.nl/wp-content/uploads/2022/06/city_of_lost_children_21.png
END:VEVENT
BEGIN:VEVENT
DTSTART;TZID=Europe/Amsterdam:20220623T180000
DTEND;TZID=Europe/Amsterdam:20220623T230000
DTSTAMP:20260423T063503
CREATED:20220620T073056Z
LAST-MODIFIED:20220620T073726Z
UID:9046-1656007200-1656025200@plantagedok.nl
SUMMARY:Dokhuis Night - Plumeau
DESCRIPTION:Music: PLUMEAU \nVoor al uw stoffige zaken\, feesten en partijen: Een driekoppige band uit Amsterdam vergelijkbaar met Kerberos maar dan met meer haar en iets meer fluffy. Zo stoffig als je bek vol met zand en zo droog als je mond na een aantal pils. Met een eigenzinnige samensmelting van funky baslijntjes\, strakke drums en spacende gitaarpartijen giet deze band een spectrum van nummers in hun eigen geluid. \n \nExhibition: Het Jaar van de Kever – Fraublank \nFood: Vegan food by Hafid \n 
URL:https://plantagedok.nl/event/dokhuis-night-plumeau/
LOCATION:Dokhuis
ATTACH;FMTTYPE=image/jpeg:https://plantagedok.nl/wp-content/uploads/2022/06/Plumeau_Promo.jpg
END:VEVENT
END:VCALENDAR