BEGIN:VCALENDAR
VERSION:2.0
PRODID:-//Plantage Dok - ECPv6.15.20//NONSGML v1.0//EN
CALSCALE:GREGORIAN
METHOD:PUBLISH
X-ORIGINAL-URL:https://plantagedok.nl
X-WR-CALDESC:Events for Plantage Dok
REFRESH-INTERVAL;VALUE=DURATION:PT1H
X-Robots-Tag:noindex
X-PUBLISHED-TTL:PT1H
BEGIN:VTIMEZONE
TZID:Europe/Amsterdam
BEGIN:DAYLIGHT
TZOFFSETFROM:+0100
TZOFFSETTO:+0200
TZNAME:CEST
DTSTART:20210328T010000
END:DAYLIGHT
BEGIN:STANDARD
TZOFFSETFROM:+0200
TZOFFSETTO:+0100
TZNAME:CET
DTSTART:20211031T010000
END:STANDARD
BEGIN:DAYLIGHT
TZOFFSETFROM:+0100
TZOFFSETTO:+0200
TZNAME:CEST
DTSTART:20220327T010000
END:DAYLIGHT
BEGIN:STANDARD
TZOFFSETFROM:+0200
TZOFFSETTO:+0100
TZNAME:CET
DTSTART:20221030T010000
END:STANDARD
BEGIN:DAYLIGHT
TZOFFSETFROM:+0100
TZOFFSETTO:+0200
TZNAME:CEST
DTSTART:20230326T010000
END:DAYLIGHT
BEGIN:STANDARD
TZOFFSETFROM:+0200
TZOFFSETTO:+0100
TZNAME:CET
DTSTART:20231029T010000
END:STANDARD
END:VTIMEZONE
BEGIN:VEVENT
DTSTART;TZID=Europe/Amsterdam:20220407T180000
DTEND;TZID=Europe/Amsterdam:20220407T230000
DTSTAMP:20260423T115140
CREATED:20220301T113559Z
LAST-MODIFIED:20220406T200450Z
UID:8228-1649354400-1649372400@plantagedok.nl
SUMMARY:Dokhuis NIGHT
DESCRIPTION:Dokhuis NIGHT\n\n+ Benefit Art Exhibition\n\n+ Vegan Maaltijd € 10\,-\n+ Vegan Cakes € 3\,-
URL:https://plantagedok.nl/event/dokhuis-night-8/
LOCATION:Dokhuis
END:VEVENT
BEGIN:VEVENT
DTSTART;TZID=Europe/Amsterdam:20220409T210000
DTEND;TZID=Europe/Amsterdam:20220409T230000
DTSTAMP:20260423T115140
CREATED:20220404T143022Z
LAST-MODIFIED:20220404T144827Z
UID:8705-1649538000-1649545200@plantagedok.nl
SUMMARY:Crystalline
DESCRIPTION:Helena Basilova & Jurjen Alkema\nPianiste Helena Basilova speelt muziek van Debussy tot Tanaka. Spectrale muziek\, waarbij de componist de kleuren van klank als uitgangspunt nemen. Videokunstenaar  Jurjen Alkema heeft hierbij in samenwerking met Helena een betoverend lichtontwerp gemaakt. \nOp het programma staat werk van vier opeenvolgende generaties componisten: Debussy\, Messiaen\, Murail en Tanaka. \nMessiaen raakte als jonge componist in de ban van Debussy’s opera Pelléas et Mélisande \, die Messiaen omschreef als “een bliksemschicht” en “waarschijnlijk de meest doorslaggevende invloed op mij’. Messiaen gaf les aan Tristan Murail\, en die op zijn beurt\, had Karen Tanaka als student. Het concert beweegt van vroege stukken waarin Messiaen terugkijkt naar Debussy\, naar een complexere taal in Vingt regards sur l’Enfant Jésus\, vanwaar Murail het stokje overneemt\, door naar Tanaka die uiteindelijk terugkeert naar eenvoud. \n  \nProgramma\nClaude Debussy – Les sons et les parfums tournent dans l’air du soir\nOlivier Messiaen – Les sons incapable du rêve Première Communion de la Vierge\nTristan Murail – Les Traveaux et les Jours\nKaren Tanaka – Crystalline I Children of Light- selection Water Dance I\,II\, III Techno Etudes I \n  \nHosted by 24classics.
URL:https://plantagedok.nl/event/crystalline/
LOCATION:Dokzaal
END:VEVENT
BEGIN:VEVENT
DTSTART;TZID=Europe/Amsterdam:20220414T180000
DTEND;TZID=Europe/Amsterdam:20220414T230000
DTSTAMP:20260423T115140
CREATED:20220301T113735Z
LAST-MODIFIED:20220413T200024Z
UID:8230-1649959200-1649977200@plantagedok.nl
SUMMARY:Dokhuis NIGHT
DESCRIPTION:Dokhuis NIGHT\n\nDokhuis galerie presents: \nLive: Frans Doedel – multi talent Amsterdam sailor Frans Doedel plays his songs about drinking and sailing\, lost love\, ports\, streets and bars – unpolished and straight from the heart. \nExpo: Benefit group exposition with the wildest variety of visual art – choose your favourite piece before the grand art auction on April 24! Benefit for Refugee Aid. \nFood: Dinner at 19h by Earthallujah Productions and Heavenly vegan cakes by Miss Whips. \nDancefloor: DJ Gaap .. .. Rocking Hell! \nSee you on Thursday! \n\n\n\n+ Benefit Art Exhibition\n+ Vegan Maaltijd\n+ Vegan Cakes
URL:https://plantagedok.nl/event/dokhuis-night-9/
LOCATION:Dokhuis
ATTACH;FMTTYPE=image/jpeg:https://plantagedok.nl/wp-content/uploads/2022/03/frans20doedel20geknipt.jpg
END:VEVENT
BEGIN:VEVENT
DTSTART;TZID=Europe/Amsterdam:20220416T170000
DTEND;TZID=Europe/Amsterdam:20220416T230000
DTSTAMP:20260423T115140
CREATED:20220414T125353Z
LAST-MODIFIED:20220414T145456Z
UID:8858-1650128400-1650150000@plantagedok.nl
SUMMARY:Benefiet Nicaragua: tasty meal and the rebellious music of singer-songwriter Jandir Rodríguez
DESCRIPTION:We are organizing this night in celebration and commemoration of the April 2018 protests in Nicaragua\, which were brutally repressed by state and paramilitary forces\, taking the lives of 328 people and leaving many more injured and in prison. It also pushed more than 150.000 people into exile. For this reason\, the night is organized by the Nicaraguan refugee community in the Netherlands\, in collaboration with SOSNicaragua-Holanda and the Dutch Solidarity with Nicaragua.\n\nThe dinner\, starting at 18.00\, is a “voku” – people’s kitchen – consisting of a series of typical Nicaraguan dishes like gallo pinto\, tostones\, adobo mushrooms and guiso (all vegetarian). There will also be tres leches and cajetas de coco for dessert.\n\nThe proceeds of the benefit dinner will support the families of political prisoners in need. If you want to be sure of a plate\, please sign up for dinner with an email to: sosnicaragua.holanda@gmail.com\n\nFollowing the dinner\, at 20.00\, Nicaraguan singer-songwriter Jandir Rodríguez\, who is on tour to promote his second album “Volar”\, will take the floor to sweep you away to warmer places  There will be plenty of time to socialize and maybe even dance a bit! You can also see caricatures by exiled cartoonist Pedro X. Molina and add to the collage of dedications to Nicaragua set up downstairs.\n\nWe hope to see you all at Dokhuis on Saturday 16 April!\n\n\n–\nProgram: Doors open from 17.00 | Dinner from 18.00 | Concert & Music from 20.00\nPrice: donation € 5\,- or more!\n–\nNOTE: park your bikes in the bike spots\, and never in front of the neighboor’s buildings. Keep sidewalks free\, keep quiet outside. Thank you!
URL:https://plantagedok.nl/event/benefiet-nicaragua-meal-and-the-rebellious-music-of-singer-songwriter-jandir-rodriguez/
LOCATION:Dokhuis
ATTACH;FMTTYPE=image/jpeg:https://plantagedok.nl/wp-content/uploads/2022/04/Jandir-1.jpg
ORGANIZER;CN="Lleca Teatro":MAILTO:lleca.teatro@gmail.com
END:VEVENT
BEGIN:VEVENT
DTSTART;TZID=Europe/Amsterdam:20220421T180000
DTEND;TZID=Europe/Amsterdam:20220421T230000
DTSTAMP:20260423T115140
CREATED:20220301T115626Z
LAST-MODIFIED:20220406T195609Z
UID:8243-1650564000-1650582000@plantagedok.nl
SUMMARY:Dokhuis NIGHT
DESCRIPTION:Dokhuis NIGHT\n\n\n+ Benefit Art Exhibition\n+ Vegan Maaltijd € 10\,-\n+ Vegan Cakes € 3\,-
URL:https://plantagedok.nl/event/dokhuis-night-10/
LOCATION:Dokhuis
END:VEVENT
BEGIN:VEVENT
DTSTART;TZID=Europe/Amsterdam:20220421T203000
DTEND;TZID=Europe/Amsterdam:20220421T223000
DTSTAMP:20260423T115140
CREATED:20220416T062601Z
LAST-MODIFIED:20220416T062647Z
UID:8878-1650573000-1650580200@plantagedok.nl
SUMMARY:Filmavond\, films for those who care | Blue Collar
DESCRIPTION:SYMBIOPSYCHOTAXICINEMA\n\nFilms for Those Who Care \nPresented by Jeffrey Badcock \n\n\nA series of socially engaged movies\, screened once a month on Thursdays. Touching on such hot topics as immigration\, homelessness\, racism\, education\, radical gender propositions\, the pandemic and gentrification\, these films not only explore visionary politics\, but are also chosen to stir our imagination and creativity. The essence of cinema is the collective experience\, and these screenings are aimed at creating intimate communities again in an increasingly hectic and fragmented world. \n  \n\n \nBLUE COLLAR   1978\nDirected by Paul Schrader\n114 minutes\nIn English with English subtitles \nDamn\, they don’t make films like this anymore\, that’s for sure! After Paul Schrader wrote loads of screenplays for other directors like Martin Scorsese (Taxi Driver) he decided to direct one of his own scripts himself. His choice was this one\, BLUE COLLAR…. and so with a great cast including Richard Pryor\, Harvey Keitel (Bad Lieutenant)\, and Yaphet Koto (Alien) and a volatile script\, he created this explosive gem of a film which is one of the most underrated films from the 70s. \nThe film is about three drinking buddies who all work in a Detroit car factory. Pissed off about their worker’s union which they feel never does anything for them\, one night they decide to rob the union’s safe. That’s the set-up for a film that hooks you in right from the great opening credit sequence and doesn’t let go until the final freeze-frame. This hilarious and tragic film was one of the last films made in Hollywood that depicted the reality of everyday people without all of the gloss\, make-up and special effects. \nBlue Collar has had a huge impact upon other filmmakers\, but has been rarely screened in cinemas since it was made. For example\, the whole interracial interaction between black and white people in this film seems to have been directly ripped off by Tarantino as a standard template for films like Pulp Fiction. And by the way\, as if all that wasn’t enough\, it also has a brilliant soundtrack featuring Captain Beefheart and Howlin’ Wolf. It’s still relevant and powerful thirty years after it was made….a lost masterpiece of engaged cinema. A dynamite film with riveting plot…. it’s a rare screening and it’s for free… what more could you ask for? \nThis will be a high-definition screening. \nFree screening.
URL:https://plantagedok.nl/event/filmavond-films-for-those-who-care-blue-collar/
LOCATION:Dokzaal
ATTACH;FMTTYPE=image/jpeg:https://plantagedok.nl/wp-content/uploads/2022/04/blue-collar-2.jpg
END:VEVENT
BEGIN:VEVENT
DTSTART;TZID=Europe/Amsterdam:20220424T140000
DTEND;TZID=Europe/Amsterdam:20220424T180000
DTSTAMP:20260423T115140
CREATED:20220404T144532Z
LAST-MODIFIED:20220422T181142Z
UID:8714-1650808800-1650823200@plantagedok.nl
SUMMARY:Benefit Art Exhibition & Auction
DESCRIPTION:Dokhuis Galerie presents a Benefit Art Auction \nParticipating Artists \nBlue Crime\, Soon\, Ashleigh McCulloch\, Olivier Delebecque\, Olle Stjerne\, Frank Rosaly\nAnnelinde de Jong\, Stéphanie Baechler\, Spill Gold\, Splitter Spletter\, Silver Bone\, Jackie Bacon\, Julie Mollenhauer\, Jason Swinehammer\, Daan Simons / Tsugi Woodworks\, Mirjam Langemeijer\nIngrid Sanghee Edwards\, Bert van de Roemer\, Daddy Hands\, Alexandra Duvekot\, Het Tekenlab\nCeola Tunstall-Behrens\, Sanne Kabalt\, Dishes\, Slow Worries\, Cinder Well\, Jessica Lever\, Helen Mason\, Vita Buivid\, Hilde Koenders\, Alice Abel\, Mirra Berridge\, Olga Miscińska\, Susan Kooi\, Bashir \n\nClick here for more information about the auction!
URL:https://plantagedok.nl/event/benefit-art-exhibition-auction/
LOCATION:Dokhuis
ATTACH;FMTTYPE=image/jpeg:https://plantagedok.nl/wp-content/uploads/2022/04/art-auction2022-scaled.jpg
END:VEVENT
BEGIN:VEVENT
DTSTART;TZID=Europe/Amsterdam:20220428T180000
DTEND;TZID=Europe/Amsterdam:20220428T230000
DTSTAMP:20260423T115140
CREATED:20220301T115818Z
LAST-MODIFIED:20220425T202637Z
UID:8248-1651168800-1651186800@plantagedok.nl
SUMMARY:Dokhuis NIGHT
DESCRIPTION:Vegan Royal Hangover Whine and Dine with Maître Martin – Heavenly Cakes\n\n\nby Miss Whips +  bar\, sounds and Benefit Art Exhibition\n\n\nKoningshuis Kater Diner met Chef Maître Martin – Hemelse gebakjes van\nMiss Whips +  bar\, sounds en Benefit Art Exhibition
URL:https://plantagedok.nl/event/dokhuis-night-12/
LOCATION:Dokhuis
END:VEVENT
END:VCALENDAR