BEGIN:VCALENDAR
VERSION:2.0
PRODID:-//Plantage Dok - ECPv6.15.20//NONSGML v1.0//EN
CALSCALE:GREGORIAN
METHOD:PUBLISH
X-ORIGINAL-URL:https://plantagedok.nl
X-WR-CALDESC:Events for Plantage Dok
REFRESH-INTERVAL;VALUE=DURATION:PT1H
X-Robots-Tag:noindex
X-PUBLISHED-TTL:PT1H
BEGIN:VTIMEZONE
TZID:Europe/Amsterdam
BEGIN:DAYLIGHT
TZOFFSETFROM:+0100
TZOFFSETTO:+0200
TZNAME:CEST
DTSTART:20250330T010000
END:DAYLIGHT
BEGIN:STANDARD
TZOFFSETFROM:+0200
TZOFFSETTO:+0100
TZNAME:CET
DTSTART:20251026T010000
END:STANDARD
BEGIN:DAYLIGHT
TZOFFSETFROM:+0100
TZOFFSETTO:+0200
TZNAME:CEST
DTSTART:20260329T010000
END:DAYLIGHT
BEGIN:STANDARD
TZOFFSETFROM:+0200
TZOFFSETTO:+0100
TZNAME:CET
DTSTART:20261025T010000
END:STANDARD
BEGIN:DAYLIGHT
TZOFFSETFROM:+0100
TZOFFSETTO:+0200
TZNAME:CEST
DTSTART:20270328T010000
END:DAYLIGHT
BEGIN:STANDARD
TZOFFSETFROM:+0200
TZOFFSETTO:+0100
TZNAME:CET
DTSTART:20271031T010000
END:STANDARD
END:VTIMEZONE
BEGIN:VEVENT
DTSTART;TZID=Europe/Amsterdam:20260506T183000
DTEND;TZID=Europe/Amsterdam:20260506T210000
DTSTAMP:20260420T233601
CREATED:20260419T152016Z
LAST-MODIFIED:20260419T152108Z
UID:12026-1778092200-1778101200@plantagedok.nl
SUMMARY:Wasteless Wednesday - dinner by TBYW
DESCRIPTION:With surplus food from our partner grocery shops in the Javastraat\, that would have gone for waste\, our professional cooks and food ambassadors present the most environmentally conscious\, healthy\, delicious\, vegan choice for your get together with friends and the neighbourhood.\nIn salvaging food and using it for our dinners we reduce food waste\, but we also take the opportunity to share our story with you and show you creative ways to deal with your (imperfect) produce\, hopefully inspiring you to implement a less wasteful behaviour at home.\n\nFirst-come first-served basis
URL:https://plantagedok.nl/event/wasteless-wednesday/
LOCATION:Dokhuis\, Plantage Doklaan 8-12\, Amsterdam\, Netherlands
END:VEVENT
BEGIN:VEVENT
DTSTART;TZID=Europe/Amsterdam:20260507T180000
DTEND;TZID=Europe/Amsterdam:20260507T230000
DTSTAMP:20260420T233601
CREATED:20260120T162832Z
LAST-MODIFIED:20260419T151829Z
UID:11776-1778176800-1778194800@plantagedok.nl
SUMMARY:Dok Night - Local Pollution
DESCRIPTION:Every Thursday there’s a Vegan Dinner accompanying an exhibition opening/closing\, a live performance\, live music\, movie screening or …\nCome meet other people interested in art and activism\, good food and great prices. Bring your favourite game and your friends. Or meet new people at the bar.\nLOCAL POLLUTION \nJoin us at Plantage Dok for an evening of live music and creative connection. \n18:30 – Vegan food by Chef Lips €10\n20:30 – Music \nLive:\nColectivo Carpe Diem\nLatin / gipsy / rock / reggae \nNoice\nresampled djent dance\nlive guitar resampling \nWe’ll also test a little sticker system to stimulate idea(l) sharing:\n“I have ideas”\n“I play music / want to join a project” \nCome and join for the music\, the food and stay to share ideas with fellow local pollutants ! ‎ \n& \nMolk presents Harald Austbo\n(3 solo’s op cello\, klarinet en contrabas)
URL:https://plantagedok.nl/event/dok-night-114/
LOCATION:Dokhuis\, Plantage Doklaan 8-12\, Amsterdam\, Netherlands
ATTACH;FMTTYPE=image/jpeg:https://plantagedok.nl/wp-content/uploads/2026/01/PHOTO-2026-04-12-14-05-00.jpg
END:VEVENT
BEGIN:VEVENT
DTSTART;TZID=Europe/Amsterdam:20260514T180000
DTEND;TZID=Europe/Amsterdam:20260514T230000
DTSTAMP:20260420T233601
CREATED:20260120T162915Z
LAST-MODIFIED:20260419T164742Z
UID:11778-1778781600-1778799600@plantagedok.nl
SUMMARY:Dok Night - Benefit Dinner for Gaza
DESCRIPTION:Every Thursday there’s a Vegan Dinner accompanying an exhibition opening/closing\, a live performance\, live music\, movie screening or …\nCome meet other people interested in art and activism\, good food and great prices. Bring your favourite game and your friends. Or meet new people at the bar.\nMore info about the program is coming soon…
URL:https://plantagedok.nl/event/dok-night-115/
LOCATION:Dokhuis\, Plantage Doklaan 8-12\, Amsterdam\, Netherlands
END:VEVENT
BEGIN:VEVENT
DTSTART;TZID=Europe/Amsterdam:20260520T183000
DTEND;TZID=Europe/Amsterdam:20260520T210000
DTSTAMP:20260420T233601
CREATED:20260419T155608Z
LAST-MODIFIED:20260419T155608Z
UID:12031-1779301800-1779310800@plantagedok.nl
SUMMARY:Wasteless Wednesday – dinner by TBYW
DESCRIPTION:With surplus food from our partner grocery shops in the Javastraat\, that would have gone for waste\, our professional cooks and food ambassadors present the most environmentally conscious\, healthy\, delicious\, vegan choice for your get together with friends and the neighbourhood.\nIn salvaging food and using it for our dinners we reduce food waste\, but we also take the opportunity to share our story with you and show you creative ways to deal with your (imperfect) produce\, hopefully inspiring you to implement a less wasteful behaviour at home.\n\nFirst-come first-served basis
URL:https://plantagedok.nl/event/wasteless-wednesday-dinner-by-tbyw-13/
LOCATION:Dokhuis
END:VEVENT
BEGIN:VEVENT
DTSTART;TZID=Europe/Amsterdam:20260521T180000
DTEND;TZID=Europe/Amsterdam:20260521T230000
DTSTAMP:20260420T233601
CREATED:20260120T163004Z
LAST-MODIFIED:20260419T161814Z
UID:11780-1779386400-1779404400@plantagedok.nl
SUMMARY:Dok Night - SYMBIOPSYCHOTAXICINEMA
DESCRIPTION:Every Thursday there’s a Vegan Dinner accompanying an exhibition opening/closing\, a live performance\, live music\, movie screening or …\nCome meet other people interested in art and activism\, good food and great prices. Bring your favourite game and your friends. Or meet new people at the bar.\n18:00 open\n19:00 Vegan Food by JAER KITCHEN\n21:00 SYMBIOPSYCHOTAXICINEMA\nPresented by Jeffrey Badcock\nA series of socially engaged movies\, screened once a month on Thursdays. Touching on such hot topics as immigration\, homelessness\, racism\, education\, radical gender propositions\, the pandemic and gentrification\, these films not only explore visionary politics\, but are also chosen to stir our imagination and creativity. The essence of cinema is the collective experience\, and these screenings are aimed at creating intimate communities again in an increasingly hectic and fragmented world.
URL:https://plantagedok.nl/event/dok-night-116/
LOCATION:Dokhuis\, Plantage Doklaan 8-12\, Amsterdam\, Netherlands
END:VEVENT
BEGIN:VEVENT
DTSTART;TZID=Europe/Amsterdam:20260527T183000
DTEND;TZID=Europe/Amsterdam:20260527T210000
DTSTAMP:20260420T233601
CREATED:20260419T155708Z
LAST-MODIFIED:20260419T155708Z
UID:12033-1779906600-1779915600@plantagedok.nl
SUMMARY:Wasteless Wednesday – dinner by TBYW
DESCRIPTION:With surplus food from our partner grocery shops in the Javastraat\, that would have gone for waste\, our professional cooks and food ambassadors present the most environmentally conscious\, healthy\, delicious\, vegan choice for your get together with friends and the neighbourhood.\nIn salvaging food and using it for our dinners we reduce food waste\, but we also take the opportunity to share our story with you and show you creative ways to deal with your (imperfect) produce\, hopefully inspiring you to implement a less wasteful behaviour at home.\n\nFirst-come first-served basis
URL:https://plantagedok.nl/event/wasteless-wednesday-dinner-by-tbyw-14/
LOCATION:Dokhuis\, Plantage Doklaan 8-12\, Amsterdam\, Netherlands
END:VEVENT
BEGIN:VEVENT
DTSTART;TZID=Europe/Amsterdam:20260528T180000
DTEND;TZID=Europe/Amsterdam:20260528T230000
DTSTAMP:20260420T233601
CREATED:20260120T163141Z
LAST-MODIFIED:20260419T161938Z
UID:11782-1779991200-1780009200@plantagedok.nl
SUMMARY:Dok Night - Como agua para Dox
DESCRIPTION:Every Thursday there’s a Vegan Dinner accompanying an exhibition opening/closing\, a live performance\, live music\, movie screening or …\nCome meet other people interested in art and activism\, good food and great prices. Bring your favourite game and your friends. Or meet new people at the bar.\n\n18 Open\n19 Benefit Dinner by Het Laatste Avondmaal\n20:30 Live music in the basement with Speed Delay en Ratjetoe
URL:https://plantagedok.nl/event/dok-night-117/
LOCATION:Dokhuis\, Plantage Doklaan 8-12\, Amsterdam\, Netherlands
END:VEVENT
BEGIN:VEVENT
DTSTART;TZID=Europe/Amsterdam:20260604T180000
DTEND;TZID=Europe/Amsterdam:20260604T230000
DTSTAMP:20260420T233601
CREATED:20260120T163242Z
LAST-MODIFIED:20260120T163242Z
UID:11784-1780596000-1780614000@plantagedok.nl
SUMMARY:Dok Night
DESCRIPTION:Every Thursday there’s a Vegan Dinner accompanying an exhibition opening/closing\, a live performance\, live music\, movie screening or …\nCome meet other people interested in art and activism\, good food and great prices. Bring your favourite game and your friends. Or meet new people at the bar.\nMore info about the program is coming soon…
URL:https://plantagedok.nl/event/dok-night-118/
LOCATION:Dokhuis\, Plantage Doklaan 8-12\, Amsterdam\, Netherlands
END:VEVENT
BEGIN:VEVENT
DTSTART;TZID=Europe/Amsterdam:20260611T180000
DTEND;TZID=Europe/Amsterdam:20260611T230000
DTSTAMP:20260420T233601
CREATED:20260120T163321Z
LAST-MODIFIED:20260120T163321Z
UID:11786-1781200800-1781218800@plantagedok.nl
SUMMARY:Dok Night
DESCRIPTION:Every Thursday there’s a Vegan Dinner accompanying an exhibition opening/closing\, a live performance\, live music\, movie screening or …\nCome meet other people interested in art and activism\, good food and great prices. Bring your favourite game and your friends. Or meet new people at the bar.\nMore info about the program is coming soon…
URL:https://plantagedok.nl/event/dok-night-119/
LOCATION:Dokhuis\, Plantage Doklaan 8-12\, Amsterdam\, Netherlands
END:VEVENT
BEGIN:VEVENT
DTSTART;TZID=Europe/Amsterdam:20260618T180000
DTEND;TZID=Europe/Amsterdam:20260618T230000
DTSTAMP:20260420T233601
CREATED:20260120T163434Z
LAST-MODIFIED:20260120T163434Z
UID:11788-1781805600-1781823600@plantagedok.nl
SUMMARY:Dok Night
DESCRIPTION:Every Thursday there’s a Vegan Dinner accompanying an exhibition opening/closing\, a live performance\, live music\, movie screening or …\nCome meet other people interested in art and activism\, good food and great prices. Bring your favourite game and your friends. Or meet new people at the bar.\nMore info about the program is coming soon…
URL:https://plantagedok.nl/event/dok-night-120/
LOCATION:Dokhuis\, Plantage Doklaan 8-12\, Amsterdam\, Netherlands
END:VEVENT
BEGIN:VEVENT
DTSTART;TZID=Europe/Amsterdam:20260625T180000
DTEND;TZID=Europe/Amsterdam:20260625T230000
DTSTAMP:20260420T233601
CREATED:20260120T163517Z
LAST-MODIFIED:20260120T163517Z
UID:11790-1782410400-1782428400@plantagedok.nl
SUMMARY:Dok Night
DESCRIPTION:Every Thursday there’s a Vegan Dinner accompanying an exhibition opening/closing\, a live performance\, live music\, movie screening or …\nCome meet other people interested in art and activism\, good food and great prices. Bring your favourite game and your friends. Or meet new people at the bar.\nMore info about the program is coming soon…
URL:https://plantagedok.nl/event/dok-night-121/
LOCATION:Dokhuis\, Plantage Doklaan 8-12\, Amsterdam\, Netherlands
END:VEVENT
END:VCALENDAR