BEGIN:VCALENDAR
VERSION:2.0
PRODID:-//Plantage Dok - ECPv6.15.20//NONSGML v1.0//EN
CALSCALE:GREGORIAN
METHOD:PUBLISH
X-ORIGINAL-URL:https://plantagedok.nl
X-WR-CALDESC:Events for Plantage Dok
REFRESH-INTERVAL;VALUE=DURATION:PT1H
X-Robots-Tag:noindex
X-PUBLISHED-TTL:PT1H
BEGIN:VTIMEZONE
TZID:Europe/Amsterdam
BEGIN:DAYLIGHT
TZOFFSETFROM:+0100
TZOFFSETTO:+0200
TZNAME:CEST
DTSTART:20230326T010000
END:DAYLIGHT
BEGIN:STANDARD
TZOFFSETFROM:+0200
TZOFFSETTO:+0100
TZNAME:CET
DTSTART:20231029T010000
END:STANDARD
BEGIN:DAYLIGHT
TZOFFSETFROM:+0100
TZOFFSETTO:+0200
TZNAME:CEST
DTSTART:20240331T010000
END:DAYLIGHT
BEGIN:STANDARD
TZOFFSETFROM:+0200
TZOFFSETTO:+0100
TZNAME:CET
DTSTART:20241027T010000
END:STANDARD
BEGIN:DAYLIGHT
TZOFFSETFROM:+0100
TZOFFSETTO:+0200
TZNAME:CEST
DTSTART:20250330T010000
END:DAYLIGHT
BEGIN:STANDARD
TZOFFSETFROM:+0200
TZOFFSETTO:+0100
TZNAME:CET
DTSTART:20251026T010000
END:STANDARD
END:VTIMEZONE
BEGIN:VEVENT
DTSTART;TZID=Europe/Amsterdam:20240307T190000
DTEND;TZID=Europe/Amsterdam:20240307T230000
DTSTAMP:20260421T225614
CREATED:20240105T134138Z
LAST-MODIFIED:20240306T155253Z
UID:10119-1709838000-1709852400@plantagedok.nl
SUMMARY:Dok Night - expo Alex Winters' opening + performance\, film Meis Vranken (MOLK)
DESCRIPTION:our usual vegan eten en bar \n+ \n! opening van Alex Winter’s tentoonstelling A «DRAWING A DAY»\,\n!! een film screening «De Ochtend» in de zaal van Meis Vranken [gehost door MOLK factory]\n!!! daarna een live performance van Alex «Live Soundtrack for a Drawing»
URL:https://plantagedok.nl/event/dok-night-36/
LOCATION:Dokhuis\, Plantage Doklaan 8-12\, Amsterdam\, Netherlands
ATTACH;FMTTYPE=image/jpeg:https://plantagedok.nl/wp-content/uploads/2024/01/PR-PD-2024-Alex-klein-scaled.jpeg
END:VEVENT
END:VCALENDAR