BEGIN:VCALENDAR
VERSION:2.0
PRODID:-//Plantage Dok - ECPv6.15.20//NONSGML v1.0//EN
CALSCALE:GREGORIAN
METHOD:PUBLISH
X-WR-CALNAME:Plantage Dok
X-ORIGINAL-URL:https://plantagedok.nl
X-WR-CALDESC:Events for Plantage Dok
REFRESH-INTERVAL;VALUE=DURATION:PT1H
X-Robots-Tag:noindex
X-PUBLISHED-TTL:PT1H
BEGIN:VTIMEZONE
TZID:Europe/Amsterdam
BEGIN:DAYLIGHT
TZOFFSETFROM:+0100
TZOFFSETTO:+0200
TZNAME:CEST
DTSTART:20220327T010000
END:DAYLIGHT
BEGIN:STANDARD
TZOFFSETFROM:+0200
TZOFFSETTO:+0100
TZNAME:CET
DTSTART:20221030T010000
END:STANDARD
BEGIN:DAYLIGHT
TZOFFSETFROM:+0100
TZOFFSETTO:+0200
TZNAME:CEST
DTSTART:20230326T010000
END:DAYLIGHT
BEGIN:STANDARD
TZOFFSETFROM:+0200
TZOFFSETTO:+0100
TZNAME:CET
DTSTART:20231029T010000
END:STANDARD
BEGIN:DAYLIGHT
TZOFFSETFROM:+0100
TZOFFSETTO:+0200
TZNAME:CEST
DTSTART:20240331T010000
END:DAYLIGHT
BEGIN:STANDARD
TZOFFSETFROM:+0200
TZOFFSETTO:+0100
TZNAME:CET
DTSTART:20241027T010000
END:STANDARD
END:VTIMEZONE
BEGIN:VEVENT
DTSTART;TZID=Europe/Amsterdam:20231216T120000
DTEND;TZID=Europe/Amsterdam:20231217T030000
DTSTAMP:20260422T033919
CREATED:20231116T214850Z
LAST-MODIFIED:20231213T195510Z
UID:9969-1702728000-1702782000@plantagedok.nl
SUMMARY:Plantage Dok 25-jarig jubileum FEEST
DESCRIPTION:Plantage Dok is 25 jaar dit jaar – en dat gaan we vieren op 16 december. Het zal een groot feest worden met performances\, lekker eten en veel kunst en muziek! \nWe nodigen je hierbij uit om vanaf 12 uur ‘s middags het glas te heffen met ons en de open ateliers te komen bezoeken. Meer dan 15 ruimtes in het pand zijn te bezoeken en is er ook elk uur een rondleiding (13:00\, 14:00\, 15:00 & 16:00) waar één van de Dokkers je meeneemt door het pand en vertelt over de geschiedenis\, de gebruikers en alles wat er zoal gebeurt: een unieke kans om binnen te kunnen kijken in ons bijzondere pand! \nDeze kunstenaars\, ambachtslieden\, muzikanten & activisten gaan hun ruimte openstellen en of rondleidingen geven: Lino Hellings\, Aseed\, All Included\, The Joinery\, Maurice Kraats\, Ruud Dubel\, Olga Micińska\, Daan Simons\, Jochem van Tol\, Ibelisse Guardia Ferragutti\, Janneke de Jong\, Frank Rosaly\, Rosa Ronsdorf\, Annelinde de Jong\, Questions Collective\, Tessel Brühl\, Roos Pollmann\, Flavia Faas\, Céline Talens\, Eva Schippers & Alex Winters\, Thekla Ahrens\, Maaike Bol\, Anna Cairoli\, Paperjam\, Aukje Koelstra\, Meduse MagiQ\, Alexandra Duvekot\, Raphael Vanoli\, Olivier Delebecque\, Sonia Kazovsky\, Pablo Dias\, Ine Poppe\, Sam Nemeth\, Olga Middendorp\, Jutta Hinterleitner\, Julie Mollenhauer\, Bastiaan Lips en onze Artist In Residence: Petra Banke. Her en der in het pand zullen gedurende de dag installaties te zien zijn en in-situ performances van Alex Winters en Electric Circus. \nWe zijn nu een kwart eeuw oud en daar zijn we echt heel trots op. Plantage Dok combineert al decennia lang talloze functies in eigen beheer en op eigen wijze. Vanaf de kraak in 1998\, tot de aankoop in 2000 en alle ontwikkelingen daartussen en sindsdien hebben deze plek gemaakt tot wat het nu is: een solidaire gemeenschap waar kunst\, cultuur\, sociaal wonen\, activisme en ambachten samenkomen in een bruisend geheel waar altijd wat te doen is. Op het feest willen we die rijkdom en verscheidenheid met jullie delen. De zaal en het cafe zullen worden gevuld met kunstwerken en performances van Dokkers\, na het eten is het feest in zowel de Dokzaal\, Dokhuis Galerie\, Molk Factory en op andere verborgen plekken in het gebouw zoals bij Meduse MagiQ. \nVanaf 18:00 begint het diner en Meral Polat Trio bijt de spits af vanaf 19:00 in de Dokzaal. \nDe line up voor ‘s avonds bestaat vooralsnog uit Spill Gold\, Meral Polat Trio\, Lifeless Past\, Han Bennink & Oscar Jan Hoogland\, ZEA\, Yodel Queen\, Schwierige Franz\, ‘Vrouwen zijn ok’-DJ Team en Rolodex en een bijzonder dansbare afsluiter met een politieke boodschap die zich ook goed leent om luidkeels meegezongen te worden. Tussen alle acts in verzorgen Dj Superinca\, DJ Noralie\, DJ ROOSPEEE en DJ Topo Monti de muzikale omlijsting. Het Berlijns/Amsterdams A/V collectief Mute zorgt voor het nachtprogramma zodat het Dok eraf gedanst kan worden. Kom feestvieren en neem gezellig mensen mee! \n  \n  \nProgramma:\nIn Molk:\n15:00 ZEA (met Harald Austbø en Ineke Duivenvoorde)\n17:00 Han Bennink & Oscar Jan Hoogland \nIn Dokzaal:\n19:00 – 20:00 Meral Polat Trio\n20:40 – 21:20 Spill Gold\n22:15 – 23:00 Je Linkse Buurvrouw \nDokhuis Galerie Kelder Stage\n20:00 – 20:30 rolodex\n21:00 – 21:30 yodel.queen\n21:45 – 22:15 schwierigefranz\n23:15 – 0:00 lifelesspast\n0:00 – 3:00 Mute \nMeduse MagiQ\nwill host live performances by Ease Anaïs (18:00) en Raphael Vanoli and others (14:00)! \nKeep an eye out for Open Artist Workspaces and Artist Tours around the building from 12:00 onwards ✨
URL:https://plantagedok.nl/event/plantage-dok-25-jarig-jubileum-feest/
ATTACH;FMTTYPE=image/jpeg:https://plantagedok.nl/wp-content/uploads/2023/11/PlantageDok25.jpg
END:VEVENT
END:VCALENDAR