BEGIN:VCALENDAR
VERSION:2.0
PRODID:-//Plantage Dok - ECPv6.15.20//NONSGML v1.0//EN
CALSCALE:GREGORIAN
METHOD:PUBLISH
X-WR-CALNAME:Plantage Dok
X-ORIGINAL-URL:https://plantagedok.nl
X-WR-CALDESC:Events for Plantage Dok
REFRESH-INTERVAL;VALUE=DURATION:PT1H
X-Robots-Tag:noindex
X-PUBLISHED-TTL:PT1H
BEGIN:VTIMEZONE
TZID:Europe/Amsterdam
BEGIN:DAYLIGHT
TZOFFSETFROM:+0100
TZOFFSETTO:+0200
TZNAME:CEST
DTSTART:20220327T010000
END:DAYLIGHT
BEGIN:STANDARD
TZOFFSETFROM:+0200
TZOFFSETTO:+0100
TZNAME:CET
DTSTART:20221030T010000
END:STANDARD
BEGIN:DAYLIGHT
TZOFFSETFROM:+0100
TZOFFSETTO:+0200
TZNAME:CEST
DTSTART:20230326T010000
END:DAYLIGHT
BEGIN:STANDARD
TZOFFSETFROM:+0200
TZOFFSETTO:+0100
TZNAME:CET
DTSTART:20231029T010000
END:STANDARD
BEGIN:DAYLIGHT
TZOFFSETFROM:+0100
TZOFFSETTO:+0200
TZNAME:CEST
DTSTART:20240331T010000
END:DAYLIGHT
BEGIN:STANDARD
TZOFFSETFROM:+0200
TZOFFSETTO:+0100
TZNAME:CET
DTSTART:20241027T010000
END:STANDARD
END:VTIMEZONE
BEGIN:VEVENT
DTSTART;TZID=Europe/Amsterdam:20231214T180000
DTEND;TZID=Europe/Amsterdam:20231214T230000
DTSTAMP:20260422T033930
CREATED:20231120T104806Z
LAST-MODIFIED:20231209T173057Z
UID:9982-1702576800-1702594800@plantagedok.nl
SUMMARY:Dok Night / SYMBIOPSYCHOTAXICINEMA
DESCRIPTION:PETIT A PETIT  1970 \n\n\n\n  \n(Little by little)\nDirected by Jean Rouch\n96 minutes\nIn French with English subtitles \n\nJean Rouch was a cinema-anthropologist who went to west Africa and fell in love with it. When he saw first-hand what colonization had done to the continent\, he decided to dismantle those power games and created his own ethnographic field  called ‘shared anthropology’. But for him\, if he was going to be sincere\, he knew that the real problem wasn’t in Africa but in his home country France. So he often returned to France and made films that were critical of the assumptions and arrogance of the European mindset. Because of his character\, he didn’t do this in a dark and angry way\, but reflecting what he loved in West African communities\, he did it in a playful way. \nIn this movie he brings a group of his friends from Niger to Paris\, including one of his favorite characters Damouré Zika. The fictional set up is that they want to come and look at building construction as businessmen\, but the collective film actually is a critique of modern French life and capitalist society. As with all of this director’s films it’s a collaborative ‘shared’ effort and borders on the absurd and surreal. It is an example of another genre Jean Rouch launched\, described as ‘docu-fiction’. This film was made spontaneously—little by little—as a collective… and therefore reflects a foreigner’s view on the insanity and ridiculousness of French culture and the modern world. You can bet it was also a deep learning experience for director Rouch as he went around the city he knew so well\, and listened and learned from his friends and saw it through their eyes. \nJean Rouch’s films were groundbreaking culturally\, and had a huge impact on cinema even though his name is rarely mentioned these days. Two of the five principal directors of the French New Wave of the 60s—Jean-Luc Godard and Jacques Rivette—both pointed to films of Jean Rouch as the principal influence that ignited the entire Nouvelle Vague. The fusing together of fiction and documentary\, the use of handheld cameras\, shooting in the streets\, improvisation\, independence and nonlinear editing were principal aspects of his work that would be picked up by the so-called ‘young Turk’ filmmakers. \n\n\n\nSYMBIOPSYCHOTAXICINEMA\nPlantage Doklaan 8-12\n20:30\nFree screening  \nDinners are available from 19:00\n\n\n\n\n\nPresented by Jeffrey Badcock\nA series of socially engaged movies\, screened once a month on Thursdays. Touching on such hot topics as immigration\, homelessness\, racism\, education\, radical gender propositions\, the pandemic and gentrification\, these films not only explore visionary politics\, but are also chosen to stir our imagination and creativity. The essence of cinema is the collective experience\, and these screenings are aimed at creating intimate communities again in an increasingly hectic and fragmented world. 
URL:https://plantagedok.nl/event/thursday-dok-night/
ATTACH;FMTTYPE=image/jpeg:https://plantagedok.nl/wp-content/uploads/2023/11/flyer-pldok-colour.jpg
END:VEVENT
END:VCALENDAR