BEGIN:VCALENDAR
VERSION:2.0
PRODID:-//Plantage Dok - ECPv6.15.20//NONSGML v1.0//EN
CALSCALE:GREGORIAN
METHOD:PUBLISH
X-ORIGINAL-URL:https://plantagedok.nl
X-WR-CALDESC:Events for Plantage Dok
REFRESH-INTERVAL;VALUE=DURATION:PT1H
X-Robots-Tag:noindex
X-PUBLISHED-TTL:PT1H
BEGIN:VTIMEZONE
TZID:Europe/Amsterdam
BEGIN:DAYLIGHT
TZOFFSETFROM:+0100
TZOFFSETTO:+0200
TZNAME:CEST
DTSTART:20220327T010000
END:DAYLIGHT
BEGIN:STANDARD
TZOFFSETFROM:+0200
TZOFFSETTO:+0100
TZNAME:CET
DTSTART:20221030T010000
END:STANDARD
BEGIN:DAYLIGHT
TZOFFSETFROM:+0100
TZOFFSETTO:+0200
TZNAME:CEST
DTSTART:20230326T010000
END:DAYLIGHT
BEGIN:STANDARD
TZOFFSETFROM:+0200
TZOFFSETTO:+0100
TZNAME:CET
DTSTART:20231029T010000
END:STANDARD
BEGIN:DAYLIGHT
TZOFFSETFROM:+0100
TZOFFSETTO:+0200
TZNAME:CEST
DTSTART:20240331T010000
END:DAYLIGHT
BEGIN:STANDARD
TZOFFSETFROM:+0200
TZOFFSETTO:+0100
TZNAME:CET
DTSTART:20241027T010000
END:STANDARD
END:VTIMEZONE
BEGIN:VEVENT
DTSTART;TZID=Europe/Amsterdam:20231130T180000
DTEND;TZID=Europe/Amsterdam:20231130T230000
DTSTAMP:20260422T033940
CREATED:20230831T170345Z
LAST-MODIFIED:20230831T170345Z
UID:9772-1701367200-1701385200@plantagedok.nl
SUMMARY:Dok Night
DESCRIPTION:
URL:https://plantagedok.nl/event/dok-night-28/
LOCATION:Dokhuis\, Plantage Doklaan 8-12\, Amsterdam\, Netherlands
END:VEVENT
BEGIN:VEVENT
DTSTART;TZID=Europe/Amsterdam:20231130T180000
DTEND;TZID=Europe/Amsterdam:20231130T230000
DTSTAMP:20260422T033940
CREATED:20231116T214434Z
LAST-MODIFIED:20231120T104135Z
UID:9966-1701367200-1701385200@plantagedok.nl
SUMMARY:Dok Night & Collectief Blauwdruk speelt Een ingebeelde ziekte
DESCRIPTION:18:00 Bar open\n \n*** \nArt work by Yehudit Mizrahi Dar \n \n  \n*** \n19:00 Vegan Food Susie Creamcheese (€ 10 / cash only) \n  \n*** \n20:30 – 22:00 Collectief Blauwdruk speelt Een ingebeelde ziekte \nVanwege het grote succes herneemt BLAUWDRUK haar geliefde bewerking van Molières Ingebeelde Zieke. Aangesterkt met gelauwerd actrice Maureen Teeuwen\, duiken we in de schatkist van het Franse Baroktheater en schudden we deze leeg in de modder. Getooid met pruiken\, gekleed in tutu’s en gewapend met medicinale volzinnen\, gaan we aan de haal met het laatste stuk van de koning van de comédie\, Molière. \nZie hier voor informatie en ticketverkoop.
URL:https://plantagedok.nl/event/dok-night-collectief-blauwdruk-speelt-een-ingebeelde-ziekte/
LOCATION:Dokzaal & Dokhuis galerie\, Plantage Doklaan 8\, Amsterdam\, 1018CM\, Netherlands
ATTACH;FMTTYPE=image/jpeg:https://plantagedok.nl/wp-content/uploads/2023/08/yehudit.jpeg
END:VEVENT
END:VCALENDAR