BEGIN:VCALENDAR
VERSION:2.0
PRODID:-//Plantage Dok - ECPv6.15.20//NONSGML v1.0//EN
CALSCALE:GREGORIAN
METHOD:PUBLISH
X-ORIGINAL-URL:https://plantagedok.nl
X-WR-CALDESC:Events for Plantage Dok
REFRESH-INTERVAL;VALUE=DURATION:PT1H
X-Robots-Tag:noindex
X-PUBLISHED-TTL:PT1H
BEGIN:VTIMEZONE
TZID:Europe/Amsterdam
BEGIN:DAYLIGHT
TZOFFSETFROM:+0100
TZOFFSETTO:+0200
TZNAME:CEST
DTSTART:20220327T010000
END:DAYLIGHT
BEGIN:STANDARD
TZOFFSETFROM:+0200
TZOFFSETTO:+0100
TZNAME:CET
DTSTART:20221030T010000
END:STANDARD
BEGIN:DAYLIGHT
TZOFFSETFROM:+0100
TZOFFSETTO:+0200
TZNAME:CEST
DTSTART:20230326T010000
END:DAYLIGHT
BEGIN:STANDARD
TZOFFSETFROM:+0200
TZOFFSETTO:+0100
TZNAME:CET
DTSTART:20231029T010000
END:STANDARD
BEGIN:DAYLIGHT
TZOFFSETFROM:+0100
TZOFFSETTO:+0200
TZNAME:CEST
DTSTART:20240331T010000
END:DAYLIGHT
BEGIN:STANDARD
TZOFFSETFROM:+0200
TZOFFSETTO:+0100
TZNAME:CET
DTSTART:20241027T010000
END:STANDARD
END:VTIMEZONE
BEGIN:VEVENT
DTSTART;VALUE=DATE:20231006
DTEND;VALUE=DATE:20231009
DTSTAMP:20260422T070300
CREATED:20230929T125706Z
LAST-MODIFIED:20230929T125706Z
UID:9827-1696550400-1696809599@plantagedok.nl
SUMMARY:Global Climate Jobs Conference
DESCRIPTION:The Conference Program\nAt the 2023 Global Climate Jobs Conference\, we will bring together everyone who wants to take part in the challenging but pressuring task of building social power to stop climate change. We want to move from policy discussions to action. We seek to set a conference for frank and ambitious discussions on working-class organizing\, alliance and movement building and political strategy\, towards Climate Jobs and Ecological Unionism. \nIn this conference\, we will build on three pillars of questions: \n\nProgram: What is the progressive agenda and policy proposals to face the multiple social and climate crises? What does a political program compatible with climate science and driven towards social justice looks like?\nStrategy: What do these political proposals mean to our movements and organizations strategically? What is the left plan for power? What do different organizations need from each other to build strong alliances? How will we organize to win?\nNarrative: How will we communicate our agenda? How do we show people what we are fighting for? How can we gain broad support for progressive proposals?\n\nAnd these will be structured in 3 kinds of sessions: Panel Discussions (interventions by invited speakers)\, Plenary Sessions (open and facilitated discussions with all of the participants)\, and Parallel Sessions (workshops session or focus discussion proposed by participants and organizations). \nThe Panel Discussions will set the key questions and present some key experiences and learning\, from which the parallel sessions can build on. The parallel sessions will then further develop some of the content. And plenary sessions will be used to share\, amongst all participants\, some of the main discussions and conclusions coming out of the parallel sessions. \nOn the final day (narrative) the workshop session will be focused on real cases for implementation of the learning from the previous days\, and to take forward key discussions and proposals. The plenary will then allow participants to share the results of the implementation sessions. \nFor program\, info and tickets visit: https://www.globalclimatejobs.org/conference-2023/
URL:https://plantagedok.nl/event/global-climate-jobs-conference/
LOCATION:Dokzaal
ATTACH;FMTTYPE=image/jpeg:https://plantagedok.nl/wp-content/uploads/2023/09/Global-Climate-Jobs-Conference-2023-–-Oct.-6-8-The-Netherlands.jpg
END:VEVENT
END:VCALENDAR