BEGIN:VCALENDAR
VERSION:2.0
PRODID:-//Plantage Dok - ECPv6.15.20//NONSGML v1.0//EN
CALSCALE:GREGORIAN
METHOD:PUBLISH
X-WR-CALNAME:Plantage Dok
X-ORIGINAL-URL:https://plantagedok.nl
X-WR-CALDESC:Events for Plantage Dok
REFRESH-INTERVAL;VALUE=DURATION:PT1H
X-Robots-Tag:noindex
X-PUBLISHED-TTL:PT1H
BEGIN:VTIMEZONE
TZID:Europe/Amsterdam
BEGIN:DAYLIGHT
TZOFFSETFROM:+0100
TZOFFSETTO:+0200
TZNAME:CEST
DTSTART:20220327T010000
END:DAYLIGHT
BEGIN:STANDARD
TZOFFSETFROM:+0200
TZOFFSETTO:+0100
TZNAME:CET
DTSTART:20221030T010000
END:STANDARD
BEGIN:DAYLIGHT
TZOFFSETFROM:+0100
TZOFFSETTO:+0200
TZNAME:CEST
DTSTART:20230326T010000
END:DAYLIGHT
BEGIN:STANDARD
TZOFFSETFROM:+0200
TZOFFSETTO:+0100
TZNAME:CET
DTSTART:20231029T010000
END:STANDARD
BEGIN:DAYLIGHT
TZOFFSETFROM:+0100
TZOFFSETTO:+0200
TZNAME:CEST
DTSTART:20240331T010000
END:DAYLIGHT
BEGIN:STANDARD
TZOFFSETFROM:+0200
TZOFFSETTO:+0100
TZNAME:CET
DTSTART:20241027T010000
END:STANDARD
END:VTIMEZONE
BEGIN:VEVENT
DTSTART;TZID=Europe/Amsterdam:20231005T180000
DTEND;TZID=Europe/Amsterdam:20231005T230000
DTSTAMP:20260422T070049
CREATED:20230831T165624Z
LAST-MODIFIED:20230911T081813Z
UID:9755-1696528800-1696546800@plantagedok.nl
SUMMARY:Dok Night | Smirk & Dishes
DESCRIPTION:Rope or Guillotine & World’s Appreciated Kitsch provide you with food & bands! \n \n18:00 Vegan Food\n \n*** \n20:o0 First band  \nSMIRK (Los Angeles\, California\, USA)\nAs the Decline of Western Civilization comes into full focus\, our ears turn once again to Los Angeles. The first proper full length from Smirk could very well be the soundtrack to a Decline pt. IV\, with tracks like “Living in Hell” and “Hopeless” delivered for a whole new generation of latchkey kids. \nBut if you’re wondering where the magic is – let’s start with pure\, quality songwriting. Vicario and his revolving cast of Smirk players have really done it this time. It’s punk\, California\, paranoia\, guitars\, rhythm\, and a sense of humor-slash-purpose joining forces to combat reality in the truest sense.\nhttps://smirk1.bandcamp.com\n\nDISHES (Amsterdam & Leiden\, Netherlands)\nAmsterdam and Leiden based band. Doing dishes playing punk.\nIf you are fan of catchy melodic punk rock songs\, with a good dose of social criticism thrown in the mix\, then this is for you!\nhttps://dishes.bandcamp.com\n  \n+ DJ set by Apostolis Wak after the bands
URL:https://plantagedok.nl/event/dok-night-20/
LOCATION:Dokhuis\, Plantage Doklaan 8-12\, Amsterdam\, Netherlands
ATTACH;FMTTYPE=image/png:https://plantagedok.nl/wp-content/uploads/2023/08/SMIRK.png
END:VEVENT
END:VCALENDAR