BEGIN:VCALENDAR
VERSION:2.0
PRODID:-//Plantage Dok - ECPv6.15.20//NONSGML v1.0//EN
CALSCALE:GREGORIAN
METHOD:PUBLISH
X-WR-CALNAME:Plantage Dok
X-ORIGINAL-URL:https://plantagedok.nl
X-WR-CALDESC:Events for Plantage Dok
REFRESH-INTERVAL;VALUE=DURATION:PT1H
X-Robots-Tag:noindex
X-PUBLISHED-TTL:PT1H
BEGIN:VTIMEZONE
TZID:Europe/Amsterdam
BEGIN:DAYLIGHT
TZOFFSETFROM:+0100
TZOFFSETTO:+0200
TZNAME:CEST
DTSTART:20220327T010000
END:DAYLIGHT
BEGIN:STANDARD
TZOFFSETFROM:+0200
TZOFFSETTO:+0100
TZNAME:CET
DTSTART:20221030T010000
END:STANDARD
BEGIN:DAYLIGHT
TZOFFSETFROM:+0100
TZOFFSETTO:+0200
TZNAME:CEST
DTSTART:20230326T010000
END:DAYLIGHT
BEGIN:STANDARD
TZOFFSETFROM:+0200
TZOFFSETTO:+0100
TZNAME:CET
DTSTART:20231029T010000
END:STANDARD
BEGIN:DAYLIGHT
TZOFFSETFROM:+0100
TZOFFSETTO:+0200
TZNAME:CEST
DTSTART:20240331T010000
END:DAYLIGHT
BEGIN:STANDARD
TZOFFSETFROM:+0200
TZOFFSETTO:+0100
TZNAME:CET
DTSTART:20241027T010000
END:STANDARD
END:VTIMEZONE
BEGIN:VEVENT
DTSTART;TZID=Europe/Amsterdam:20230921T180000
DTEND;TZID=Europe/Amsterdam:20230921T230000
DTSTAMP:20260422T083549
CREATED:20230831T165504Z
LAST-MODIFIED:20230919T092243Z
UID:9751-1695319200-1695337200@plantagedok.nl
SUMMARY:Dok Night expo
DESCRIPTION:Vegan Meals by Suzie Creamcheese \n   exhibition ‘Silent Screamers’ \n  by \nGabriël van Hoften
URL:https://plantagedok.nl/event/dok-night-18/
LOCATION:Dokhuis\, Plantage Doklaan 8-12\, Amsterdam\, Netherlands
ATTACH;FMTTYPE=image/jpeg:https://plantagedok.nl/wp-content/uploads/2023/08/silent-screamer.jpeg
END:VEVENT
END:VCALENDAR