BEGIN:VCALENDAR
VERSION:2.0
PRODID:-//Plantage Dok - ECPv6.15.20//NONSGML v1.0//EN
CALSCALE:GREGORIAN
METHOD:PUBLISH
X-WR-CALNAME:Plantage Dok
X-ORIGINAL-URL:https://plantagedok.nl
X-WR-CALDESC:Events for Plantage Dok
REFRESH-INTERVAL;VALUE=DURATION:PT1H
X-Robots-Tag:noindex
X-PUBLISHED-TTL:PT1H
BEGIN:VTIMEZONE
TZID:Europe/Amsterdam
BEGIN:DAYLIGHT
TZOFFSETFROM:+0100
TZOFFSETTO:+0200
TZNAME:CEST
DTSTART:20220327T010000
END:DAYLIGHT
BEGIN:STANDARD
TZOFFSETFROM:+0200
TZOFFSETTO:+0100
TZNAME:CET
DTSTART:20221030T010000
END:STANDARD
BEGIN:DAYLIGHT
TZOFFSETFROM:+0100
TZOFFSETTO:+0200
TZNAME:CEST
DTSTART:20230326T010000
END:DAYLIGHT
BEGIN:STANDARD
TZOFFSETFROM:+0200
TZOFFSETTO:+0100
TZNAME:CET
DTSTART:20231029T010000
END:STANDARD
BEGIN:DAYLIGHT
TZOFFSETFROM:+0100
TZOFFSETTO:+0200
TZNAME:CEST
DTSTART:20240331T010000
END:DAYLIGHT
BEGIN:STANDARD
TZOFFSETFROM:+0200
TZOFFSETTO:+0100
TZNAME:CET
DTSTART:20241027T010000
END:STANDARD
END:VTIMEZONE
BEGIN:VEVENT
DTSTART;TZID=Europe/Amsterdam:20230914T180000
DTEND;TZID=Europe/Amsterdam:20230914T230000
DTSTAMP:20260422T083549
CREATED:20230831T165409Z
LAST-MODIFIED:20230912T075518Z
UID:9749-1694714400-1694732400@plantagedok.nl
SUMMARY:Dok Night | Muziekavond in de kelder
DESCRIPTION:18:00 Vegan Food\n \n*** \n19:30 Muziekavond in de Dokhuiskelder \nIntiem en intimiderend. Een ontmoetingsstek voor muzikanten en een ontsmettingsplek voor doorgedragen zielen. Aan tafel na het eten\, op het podium en in je hoofd. \nMet \nCocada (Braziliaanse Coco de Roda)\nCocada started as a group of friends that came together to play and\ndance coco de roda\, a beautiful folkloric tradition from the sunny\nNortheast region of Brazil. Coco de roda is an Afro-Indigenous-Brazilian\ntradition\, rich cultural expression that shares stories of joy and\nancestrality. We celebrate our Brazilian roots\, our plural community\,\nand the love we share for coco. \n&\nSmyrneika/Rebetika door Méla en Johannes\n“Méla (voice) and Johannes (lavta/bouzouki) met in Music Village\, Agios Lavrentios in the summer of 2022 and started playing Rebetika and Smyrneika\, which they both love deeply. We welcome oloi rebetes tou ntounia/όλοι ρεμπέτεσ του ντουνιά to join us!” \n& \nExhibition of drawings by Gabriël van Hoften ‘Silent Screamers’
URL:https://plantagedok.nl/event/dok-night-17/
LOCATION:Dokhuis\, Plantage Doklaan 8-12\, Amsterdam\, Netherlands
ATTACH;FMTTYPE=image/jpeg:https://plantagedok.nl/wp-content/uploads/2023/08/WhatsApp-Image-2023-09-11-at-12.49.14.jpeg
END:VEVENT
END:VCALENDAR