BEGIN:VCALENDAR
VERSION:2.0
PRODID:-//Plantage Dok - ECPv6.15.20//NONSGML v1.0//EN
CALSCALE:GREGORIAN
METHOD:PUBLISH
X-ORIGINAL-URL:https://plantagedok.nl
X-WR-CALDESC:Events for Plantage Dok
REFRESH-INTERVAL;VALUE=DURATION:PT1H
X-Robots-Tag:noindex
X-PUBLISHED-TTL:PT1H
BEGIN:VTIMEZONE
TZID:Europe/Amsterdam
BEGIN:DAYLIGHT
TZOFFSETFROM:+0100
TZOFFSETTO:+0200
TZNAME:CEST
DTSTART:20220327T010000
END:DAYLIGHT
BEGIN:STANDARD
TZOFFSETFROM:+0200
TZOFFSETTO:+0100
TZNAME:CET
DTSTART:20221030T010000
END:STANDARD
BEGIN:DAYLIGHT
TZOFFSETFROM:+0100
TZOFFSETTO:+0200
TZNAME:CEST
DTSTART:20230326T010000
END:DAYLIGHT
BEGIN:STANDARD
TZOFFSETFROM:+0200
TZOFFSETTO:+0100
TZNAME:CET
DTSTART:20231029T010000
END:STANDARD
BEGIN:DAYLIGHT
TZOFFSETFROM:+0100
TZOFFSETTO:+0200
TZNAME:CEST
DTSTART:20240331T010000
END:DAYLIGHT
BEGIN:STANDARD
TZOFFSETFROM:+0200
TZOFFSETTO:+0100
TZNAME:CET
DTSTART:20241027T010000
END:STANDARD
END:VTIMEZONE
BEGIN:VEVENT
DTSTART;TZID=Europe/Amsterdam:20230617T110000
DTEND;TZID=Europe/Amsterdam:20230625T180000
DTSTAMP:20260422T130209
CREATED:20230606T123452Z
LAST-MODIFIED:20230606T123842Z
UID:9691-1686999600-1687716000@plantagedok.nl
SUMMARY:pOpup-expO in de DOKZAAL
DESCRIPTION:Van zaterdag 17 t/m zondag 25 juni organiseren 33 kunstenaars uit Centrum Oost  een expositie plus een programma vol creatieve\, culturele workshops. De komende weken zal het programma op de website worden aangevuld. De Open Oost shOp zal weer openen waar originele werken\, kaarten\, keramiek\, textiel\, sieraden en andere unieke cadeaus verkocht worden. \nEen feestelijke opening staat gepland op zondagavond 18 juni\, 17 – 20 uur\nDagelijks is de DOKZAAL geopend van 11:00 tot 18:00 uur. De workshops kunnen ook ‘s avonds plaatsvinden. \nFinissage op zaterdag 24 juni van 17 – 21.30 uur.
URL:https://plantagedok.nl/event/popup-expo-in-de-dokzaal/
LOCATION:Dokzaal
ATTACH;FMTTYPE=application/pdf:https://plantagedok.nl/wp-content/uploads/2023/06/pOpupcO_juni2023_kaart.pdf
END:VEVENT
BEGIN:VEVENT
DTSTART;TZID=Europe/Amsterdam:20230622T180000
DTEND;TZID=Europe/Amsterdam:20230622T230000
DTSTAMP:20260422T130209
CREATED:20230504T190940Z
LAST-MODIFIED:20230619T185441Z
UID:9614-1687456800-1687474800@plantagedok.nl
SUMMARY:Dok Night | Mamaliga Orkestra
DESCRIPTION:18:00 Bar open\n \n*** \n19:00  “all you can eat’ Vegan Sushi by Suzie Creamcheese (€ 10 / cash only)\n*** \n20:30  Live music by Mamaliga Orkestra\n\nKlezmer /Gypsy sounds from Belgium\, Italy and France \n‘A fucking bunch of  brides\, really lovely in their off-road white dresses \nGypsy songs and melodies. \noriginal directory. \nMultiple identities. \nA gypsyologically extragadjordinary sound. \nFor better and for worse’
URL:https://plantagedok.nl/event/dok-night-mamaliga-orkestra/
LOCATION:Dokhuis\, Plantage Doklaan 8-12\, Amsterdam\, Netherlands
ATTACH;FMTTYPE=image/jpeg:https://plantagedok.nl/wp-content/uploads/2023/05/Mamaliga2.jpg
END:VEVENT
END:VCALENDAR