BEGIN:VCALENDAR
VERSION:2.0
PRODID:-//Plantage Dok - ECPv6.15.20//NONSGML v1.0//EN
CALSCALE:GREGORIAN
METHOD:PUBLISH
X-WR-CALNAME:Plantage Dok
X-ORIGINAL-URL:https://plantagedok.nl
X-WR-CALDESC:Events for Plantage Dok
REFRESH-INTERVAL;VALUE=DURATION:PT1H
X-Robots-Tag:noindex
X-PUBLISHED-TTL:PT1H
BEGIN:VTIMEZONE
TZID:Europe/Amsterdam
BEGIN:DAYLIGHT
TZOFFSETFROM:+0100
TZOFFSETTO:+0200
TZNAME:CEST
DTSTART:20220327T010000
END:DAYLIGHT
BEGIN:STANDARD
TZOFFSETFROM:+0200
TZOFFSETTO:+0100
TZNAME:CET
DTSTART:20221030T010000
END:STANDARD
BEGIN:DAYLIGHT
TZOFFSETFROM:+0100
TZOFFSETTO:+0200
TZNAME:CEST
DTSTART:20230326T010000
END:DAYLIGHT
BEGIN:STANDARD
TZOFFSETFROM:+0200
TZOFFSETTO:+0100
TZNAME:CET
DTSTART:20231029T010000
END:STANDARD
BEGIN:DAYLIGHT
TZOFFSETFROM:+0100
TZOFFSETTO:+0200
TZNAME:CEST
DTSTART:20240331T010000
END:DAYLIGHT
BEGIN:STANDARD
TZOFFSETFROM:+0200
TZOFFSETTO:+0100
TZNAME:CET
DTSTART:20241027T010000
END:STANDARD
END:VTIMEZONE
BEGIN:VEVENT
DTSTART;TZID=Europe/Amsterdam:20230316T180000
DTEND;TZID=Europe/Amsterdam:20230316T230000
DTSTAMP:20260422T174801
CREATED:20230216T184550Z
LAST-MODIFIED:20230307T093037Z
UID:9486-1678989600-1679007600@plantagedok.nl
SUMMARY:Dok Night 'GAIA'
DESCRIPTION:diner & live music\n 19:00 vegan meals by Suzie Creamcheese\n20:30 ⚡ GAIA ⚡\nGaia is een enthousiaste zanggroep van vijf vrouwen plus dirigent. Ze komen iedere week samen om mooie meerstemmige acapella-liedjes te zingen. Hun repertoire komt uit alle delen van de wereld en varieert van mooie ballads tot swingende up-tempo nummers. Veel hiervan zijn sspeciaal door hun dirigent voor hen gearrangeerd. In deze samenstelling zingen ze al ruim 10 jaar met veel plezier samen.
URL:https://plantagedok.nl/event/dok-night-9/
LOCATION:Dokhuis\, Plantage Doklaan 8-12\, Amsterdam\, Netherlands
ATTACH;FMTTYPE=image/jpeg:https://plantagedok.nl/wp-content/uploads/2023/02/gaia-foto.jpeg
END:VEVENT
END:VCALENDAR