BEGIN:VCALENDAR
VERSION:2.0
PRODID:-//Plantage Dok - ECPv6.15.20//NONSGML v1.0//EN
CALSCALE:GREGORIAN
METHOD:PUBLISH
X-WR-CALNAME:Plantage Dok
X-ORIGINAL-URL:https://plantagedok.nl
X-WR-CALDESC:Events for Plantage Dok
REFRESH-INTERVAL;VALUE=DURATION:PT1H
X-Robots-Tag:noindex
X-PUBLISHED-TTL:PT1H
BEGIN:VTIMEZONE
TZID:Europe/Amsterdam
BEGIN:DAYLIGHT
TZOFFSETFROM:+0100
TZOFFSETTO:+0200
TZNAME:CEST
DTSTART:20220327T010000
END:DAYLIGHT
BEGIN:STANDARD
TZOFFSETFROM:+0200
TZOFFSETTO:+0100
TZNAME:CET
DTSTART:20221030T010000
END:STANDARD
BEGIN:DAYLIGHT
TZOFFSETFROM:+0100
TZOFFSETTO:+0200
TZNAME:CEST
DTSTART:20230326T010000
END:DAYLIGHT
BEGIN:STANDARD
TZOFFSETFROM:+0200
TZOFFSETTO:+0100
TZNAME:CET
DTSTART:20231029T010000
END:STANDARD
BEGIN:DAYLIGHT
TZOFFSETFROM:+0100
TZOFFSETTO:+0200
TZNAME:CEST
DTSTART:20240331T010000
END:DAYLIGHT
BEGIN:STANDARD
TZOFFSETFROM:+0200
TZOFFSETTO:+0100
TZNAME:CET
DTSTART:20241027T010000
END:STANDARD
END:VTIMEZONE
BEGIN:VEVENT
DTSTART;TZID=Europe/Amsterdam:20230112T180000
DTEND;TZID=Europe/Amsterdam:20230112T230000
DTSTAMP:20260422T211129
CREATED:20230101T134444Z
LAST-MODIFIED:20230107T075054Z
UID:9371-1673546400-1673564400@plantagedok.nl
SUMMARY:Dok Night - Vegan Food & Opening expositie Landschapslijnen
DESCRIPTION:OPENING EXPOSITIE LANDSCHAPSLIJNEN\ndubbelexpositie van Annelinde de Jong en Suzanne Glerum\n\nSuzanne Glerum en Annelinde de Jong presenteren tijdens deze dubbelexpositie Landschapslijnen gezamenlijk hun werk in de etalage van woon- werkpand Plantage Dok en in het atelier van Suzanne Glerum.\nSuzanne Glerum toont olieverfschilderen en Annelinde de Jong ruimtelijke papieren objecten. \nZe vinden elkaar in hun omgang met de materie waarmee ze werken\, maar ook hun werkproces toont overeenkomsten. Voor allebei begint het werkproces buiten. Ze trekken eropuit\, het landschap in. Buiten verrichten ze ieder op eigen wijze veldwerk. In het landschap zet Suzanne Glerum de eerste lijnen in haar schetsboek. Niet om het landschap letterlijk weer te geven\, maar om het gevoel van in het landschap zijn te vangen. Annelinde de Jong verzamelt het landschap op een letterlijke manier: op verschillende buitenlocaties verzamelt ze plantaardig materiaal. Terug in het atelier dienen de schetsen als uitgangspunt voor de schilderijen. De plantenverzameling wordt omgevormd tot vellen papier om ruimtelijke objecten mee te bouwen. \nsuzanneglerum.nl | annelindedejong.com \n\n  \nvanaf 19:00\nVegan Food by Chef Lips & Vegan Cake by Miss Whips\n 
URL:https://plantagedok.nl/event/dok-night-2/
LOCATION:Dokhuis\, Plantage Doklaan 8-12\, Amsterdam\, Netherlands
ATTACH;FMTTYPE=image/jpeg:https://plantagedok.nl/wp-content/uploads/2023/01/Landschapslijnen1-def.jpeg
END:VEVENT
END:VCALENDAR