BEGIN:VCALENDAR
VERSION:2.0
PRODID:-//Plantage Dok - ECPv6.15.20//NONSGML v1.0//EN
CALSCALE:GREGORIAN
METHOD:PUBLISH
X-ORIGINAL-URL:https://plantagedok.nl
X-WR-CALDESC:Events for Plantage Dok
REFRESH-INTERVAL;VALUE=DURATION:PT1H
X-Robots-Tag:noindex
X-PUBLISHED-TTL:PT1H
BEGIN:VTIMEZONE
TZID:Europe/Amsterdam
BEGIN:DAYLIGHT
TZOFFSETFROM:+0100
TZOFFSETTO:+0200
TZNAME:CEST
DTSTART:20210328T010000
END:DAYLIGHT
BEGIN:STANDARD
TZOFFSETFROM:+0200
TZOFFSETTO:+0100
TZNAME:CET
DTSTART:20211031T010000
END:STANDARD
BEGIN:DAYLIGHT
TZOFFSETFROM:+0100
TZOFFSETTO:+0200
TZNAME:CEST
DTSTART:20220327T010000
END:DAYLIGHT
BEGIN:STANDARD
TZOFFSETFROM:+0200
TZOFFSETTO:+0100
TZNAME:CET
DTSTART:20221030T010000
END:STANDARD
BEGIN:DAYLIGHT
TZOFFSETFROM:+0100
TZOFFSETTO:+0200
TZNAME:CEST
DTSTART:20230326T010000
END:DAYLIGHT
BEGIN:STANDARD
TZOFFSETFROM:+0200
TZOFFSETTO:+0100
TZNAME:CET
DTSTART:20231029T010000
END:STANDARD
END:VTIMEZONE
BEGIN:VEVENT
DTSTART;TZID=Europe/Amsterdam:20221223T203000
DTEND;TZID=Europe/Amsterdam:20221223T230000
DTSTAMP:20260422T225424
CREATED:20221130T110052Z
LAST-MODIFIED:20221130T110052Z
UID:9334-1671827400-1671836400@plantagedok.nl
SUMMARY:De Warme Winkel speelt Lady Chatterley’s Lover
DESCRIPTION:Lady Chatterley’s Lover\n\n\n\n\n\n\nIn de beruchte en grensverleggende roman Lady Chatterley’s Lover (1928) van D.H. Lawrence valt de adellijke Constance Chatterley halsoverkop voor de brute charmes van boswachter Oliver Mellors. Vanwege de opwindende inhoud veroorzaakte de roman een groot schandaal en was het lange tijd verboden in Engeland en ver daarbuiten. In het geniep werd het boek decennia van hand op hand doorgegeven. \nHoewel Lawrence toen vooral werd gezien als provocateur\, was dat allerminst zijn bedoeling. Hij voelde heilig vuur om eerlijk te spreken over seks en seksuele voorkeur. Hij wilde nieuwe rolmodellen creëren en zette zijn lezers aan in het reine te komen met kanten van onszelf die we het liefst aan het daglicht onttrekken. \nHouvast zoekend in het verleden\, van henzelf en van het begin 20e-eeuwse Engeland\, gaan Florian Myjer en Lisa Verbelen de dans aan met deze schandaalroman. Vol overgave omarmen ze hun seks en hun driften. Schaamteloos wentelen ze zich in perversie en genot en nemen Lady Chatterley’s Lover een beetje ruig en een beetje teder mee naar de 21e eeuw. \n\n\n\n\n\n\n*** \nDe Warme Winkel is een collectief dat graag op het scherpst van de maatschappelijke en artistieke snede opereert. Geschiedenis en literatuur zijn vaak inspiratie voor voorstellingen die hun pijlen op het heden richten en de bedenkers zijn nadrukkelijk op het toneel aanwezig. Na een steeds intensievere samenwerking is Florian Myjer op 1 januari 2021 toegetreden tot de artistieke kern van dit illustere gezelschap. Lady Chatterley’s Lover is zijn eerste voorstelling in die hoedanigheid en hij schreef deze samen met Marieke de Zwaan en Lisa Verbelen. \n  \nMeer informatie en kaartverkoop: dewarmewinkel.nl/
URL:https://plantagedok.nl/event/de-warme-winkel-speelt-lady-chatterleys-lover-9/
LOCATION:Dokzaal
ATTACH;FMTTYPE=image/png:https://plantagedok.nl/wp-content/uploads/2022/10/ww.png
END:VEVENT
END:VCALENDAR