BEGIN:VCALENDAR
VERSION:2.0
PRODID:-//Plantage Dok - ECPv6.15.20//NONSGML v1.0//EN
CALSCALE:GREGORIAN
METHOD:PUBLISH
X-ORIGINAL-URL:https://plantagedok.nl
X-WR-CALDESC:Events for Plantage Dok
REFRESH-INTERVAL;VALUE=DURATION:PT1H
X-Robots-Tag:noindex
X-PUBLISHED-TTL:PT1H
BEGIN:VTIMEZONE
TZID:Europe/Amsterdam
BEGIN:DAYLIGHT
TZOFFSETFROM:+0100
TZOFFSETTO:+0200
TZNAME:CEST
DTSTART:20210328T010000
END:DAYLIGHT
BEGIN:STANDARD
TZOFFSETFROM:+0200
TZOFFSETTO:+0100
TZNAME:CET
DTSTART:20211031T010000
END:STANDARD
BEGIN:DAYLIGHT
TZOFFSETFROM:+0100
TZOFFSETTO:+0200
TZNAME:CEST
DTSTART:20220327T010000
END:DAYLIGHT
BEGIN:STANDARD
TZOFFSETFROM:+0200
TZOFFSETTO:+0100
TZNAME:CET
DTSTART:20221030T010000
END:STANDARD
BEGIN:DAYLIGHT
TZOFFSETFROM:+0100
TZOFFSETTO:+0200
TZNAME:CEST
DTSTART:20230326T010000
END:DAYLIGHT
BEGIN:STANDARD
TZOFFSETFROM:+0200
TZOFFSETTO:+0100
TZNAME:CET
DTSTART:20231029T010000
END:STANDARD
END:VTIMEZONE
BEGIN:VEVENT
DTSTART;TZID=Europe/Amsterdam:20220428T180000
DTEND;TZID=Europe/Amsterdam:20220428T230000
DTSTAMP:20260423T101329
CREATED:20220301T115818Z
LAST-MODIFIED:20220425T202637Z
UID:8248-1651168800-1651186800@plantagedok.nl
SUMMARY:Dokhuis NIGHT
DESCRIPTION:Vegan Royal Hangover Whine and Dine with Maître Martin – Heavenly Cakes\n\n\nby Miss Whips +  bar\, sounds and Benefit Art Exhibition\n\n\nKoningshuis Kater Diner met Chef Maître Martin – Hemelse gebakjes van\nMiss Whips +  bar\, sounds en Benefit Art Exhibition
URL:https://plantagedok.nl/event/dokhuis-night-12/
LOCATION:Dokhuis
END:VEVENT
END:VCALENDAR