BEGIN:VCALENDAR
VERSION:2.0
PRODID:-//Plantage Dok - ECPv6.15.20//NONSGML v1.0//EN
CALSCALE:GREGORIAN
METHOD:PUBLISH
X-ORIGINAL-URL:https://plantagedok.nl
X-WR-CALDESC:Events for Plantage Dok
REFRESH-INTERVAL;VALUE=DURATION:PT1H
X-Robots-Tag:noindex
X-PUBLISHED-TTL:PT1H
BEGIN:VTIMEZONE
TZID:Europe/Amsterdam
BEGIN:DAYLIGHT
TZOFFSETFROM:+0100
TZOFFSETTO:+0200
TZNAME:CEST
DTSTART:20210328T010000
END:DAYLIGHT
BEGIN:STANDARD
TZOFFSETFROM:+0200
TZOFFSETTO:+0100
TZNAME:CET
DTSTART:20211031T010000
END:STANDARD
BEGIN:DAYLIGHT
TZOFFSETFROM:+0100
TZOFFSETTO:+0200
TZNAME:CEST
DTSTART:20220327T010000
END:DAYLIGHT
BEGIN:STANDARD
TZOFFSETFROM:+0200
TZOFFSETTO:+0100
TZNAME:CET
DTSTART:20221030T010000
END:STANDARD
BEGIN:DAYLIGHT
TZOFFSETFROM:+0100
TZOFFSETTO:+0200
TZNAME:CEST
DTSTART:20230326T010000
END:DAYLIGHT
BEGIN:STANDARD
TZOFFSETFROM:+0200
TZOFFSETTO:+0100
TZNAME:CET
DTSTART:20231029T010000
END:STANDARD
END:VTIMEZONE
BEGIN:VEVENT
DTSTART;TZID=Europe/Amsterdam:20220409T210000
DTEND;TZID=Europe/Amsterdam:20220409T230000
DTSTAMP:20260423T113710
CREATED:20220404T143022Z
LAST-MODIFIED:20220404T144827Z
UID:8705-1649538000-1649545200@plantagedok.nl
SUMMARY:Crystalline
DESCRIPTION:Helena Basilova & Jurjen Alkema\nPianiste Helena Basilova speelt muziek van Debussy tot Tanaka. Spectrale muziek\, waarbij de componist de kleuren van klank als uitgangspunt nemen. Videokunstenaar  Jurjen Alkema heeft hierbij in samenwerking met Helena een betoverend lichtontwerp gemaakt. \nOp het programma staat werk van vier opeenvolgende generaties componisten: Debussy\, Messiaen\, Murail en Tanaka. \nMessiaen raakte als jonge componist in de ban van Debussy’s opera Pelléas et Mélisande \, die Messiaen omschreef als “een bliksemschicht” en “waarschijnlijk de meest doorslaggevende invloed op mij’. Messiaen gaf les aan Tristan Murail\, en die op zijn beurt\, had Karen Tanaka als student. Het concert beweegt van vroege stukken waarin Messiaen terugkijkt naar Debussy\, naar een complexere taal in Vingt regards sur l’Enfant Jésus\, vanwaar Murail het stokje overneemt\, door naar Tanaka die uiteindelijk terugkeert naar eenvoud. \n  \nProgramma\nClaude Debussy – Les sons et les parfums tournent dans l’air du soir\nOlivier Messiaen – Les sons incapable du rêve Première Communion de la Vierge\nTristan Murail – Les Traveaux et les Jours\nKaren Tanaka – Crystalline I Children of Light- selection Water Dance I\,II\, III Techno Etudes I \n  \nHosted by 24classics.
URL:https://plantagedok.nl/event/crystalline/
LOCATION:Dokzaal
END:VEVENT
END:VCALENDAR